BEGIN:VCALENDAR
VERSION:2.0
PRODID:-//Holand Land Office Museum - ECPv6.15.15//NONSGML v1.0//EN
CALSCALE:GREGORIAN
METHOD:PUBLISH
X-WR-CALNAME:Holand Land Office Museum
X-ORIGINAL-URL:https://hollandlandoffice.com
X-WR-CALDESC:Events for Holand Land Office Museum
REFRESH-INTERVAL;VALUE=DURATION:PT1H
X-Robots-Tag:noindex
X-PUBLISHED-TTL:PT1H
BEGIN:VTIMEZONE
TZID:UTC
BEGIN:STANDARD
TZOFFSETFROM:+0000
TZOFFSETTO:+0000
TZNAME:UTC
DTSTART:20250101T000000
END:STANDARD
END:VTIMEZONE
BEGIN:VEVENT
DTSTART;TZID=UTC:20260423T090000
DTEND;TZID=UTC:20260423T103000
DTSTAMP:20260421T082032
CREATED:20260320T174012Z
LAST-MODIFIED:20260416T150321Z
UID:3399-1776934800-1776940200@hollandlandoffice.com
SUMMARY:Java with Joe E.: Ryan Duffy\, "Joseph Ellicott's Ghost: The Lasting Impact of the Holland Land Company"
DESCRIPTION:The Holland Land Office Museum is proud to announce the next edition of our Java with Joe E series on Thursday\, April 23rd at 9 am. Museum Director Ryan Duffy shares\, “Joseph Ellicott’s Ghost: The Lasting Impact of the Holland Land Company.” The presentation touches upon some of the remaining vestiges set down over 200 years by the Holland Land Company. Admission is free with coffee and donuts. Please contact the museum at 585-343-4727 or hollandlandoffice@gmail.com. Thank you to Tim Horton’s of Batavia for again sponsoring Java with Joe E. for 2026.
URL:https://hollandlandoffice.com/event/java-with-joe-e-frank-clement-western-new-york-brickmaking/
END:VEVENT
BEGIN:VEVENT
DTSTART;TZID=UTC:20260423T190000
DTEND;TZID=UTC:20260423T200000
DTSTAMP:20260421T082032
CREATED:20260320T174321Z
LAST-MODIFIED:20260320T174321Z
UID:3405-1776970800-1776974400@hollandlandoffice.com
SUMMARY:Guest Speaker Series: Ben Kemp\, "Grant & Twain: Authors & Friends"
DESCRIPTION:The Holland Land Office Museum is proud to announce the next presenter in our Guest Speaker Series on Thursday\, April 23rd at 7 pm. Ben Kemp of Grant’s Cottage will be returning to present a living history performance\, “Grant & Twain: Authors & Friends.”\n“Civil War General\, President of the United States\, and World Traveler what else did Ulysses S. Grant do during his illustrious career? How about authoring one of the best memoirs ever written. Explore the compelling circumstances and the role of friend Mark Twain in Grant’s short but important career as an author.” Admission is by suggested donation. If you plan to attend\, please contact the museum at 585-343-4727 or hollandlandoffice@gmail.com.\nThank you to Tompkins Community Bank and the Batavia Rotary Club for sponsoring in part the Guest Speaker Series. \n“This project is made possible with funds from the Statewide Community Regrant Program\, a regrant program of the New York State Council on the Arts with the support of the Office of the Governor and the New York State Legislature and administered by GO ART!.” \n“GO ART! acknowledges that the land on which this project takes place is the ancestral\nterritory of the Seneca Nation\, one of the Six Nations of the Haudenosaunee\nConfederacy. GO ART! recognizes the historical and ongoing presence of Indigenous\npeoples in Western New York and honors their enduring relationship to this land.”
URL:https://hollandlandoffice.com/event/guest-speaker-series-ben-kemp-grant-twain-authors-friends/
END:VEVENT
END:VCALENDAR