BEGIN:VCALENDAR
VERSION:2.0
PRODID:-//Holand Land Office Museum - ECPv6.15.15//NONSGML v1.0//EN
CALSCALE:GREGORIAN
METHOD:PUBLISH
X-ORIGINAL-URL:https://hollandlandoffice.com
X-WR-CALDESC:Events for Holand Land Office Museum
REFRESH-INTERVAL;VALUE=DURATION:PT1H
X-Robots-Tag:noindex
X-PUBLISHED-TTL:PT1H
BEGIN:VTIMEZONE
TZID:UTC
BEGIN:STANDARD
TZOFFSETFROM:+0000
TZOFFSETTO:+0000
TZNAME:UTC
DTSTART:20230101T000000
END:STANDARD
END:VTIMEZONE
BEGIN:VEVENT
DTSTART;TZID=UTC:20240208T190000
DTEND;TZID=UTC:20240208T200000
DTSTAMP:20260424T131457
CREATED:20240131T210621Z
LAST-MODIFIED:20240131T210621Z
UID:2327-1707418800-1707422400@hollandlandoffice.com
SUMMARY:HLOM Trivia Night @ the Museum: Presidents of the United States
DESCRIPTION:Join us at the Holland Land Office Museum on Thursday\, February 8 at 7 pm for our next Trivia Night @ the Museum. In honor of President’s day\, come and test your knowledge of the Presidents of the United States. Admission is $5 or $3 for museum members. Please contact the museum at 585-343-4727 or hollandlandoffice@gmail.com.
URL:https://hollandlandoffice.com/event/hlom-trivia-night-the-museum-presidents-of-the-united-states/
END:VEVENT
BEGIN:VEVENT
DTSTART;TZID=UTC:20240209T180000
DTEND;TZID=UTC:20240209T200000
DTSTAMP:20260424T131457
CREATED:20231226T193926Z
LAST-MODIFIED:20231226T193926Z
UID:2302-1707501600-1707508800@hollandlandoffice.com
SUMMARY:HLOM Reimagining History Opening
DESCRIPTION:When the museum reopens in February\, it will be “Reimagining History”. This project developed by Museum Curator Tyler Angora is the steppingstone into a new era for the Holland Land Office Museum. “Reimagining History” will showcase a redesign of exhibits and exhibit spaces on the bottom level of the original structure of the Holland Land Office. Our permanent exhibit\, “The Land Office\,” will be presented with a new flow of story and presentation of artifacts. Also\, the opening will showcase the newly revamped and enlarger exhibit\, “98 Years Since the Sun Went Out.” In its new location in the old room where The Land Office” used to reside\, it will triple in size and truly show what Genesee County looked like back in 1925 when the last total solar eclipse occurred over this area. There will be more history integrated into the exhibit along with many new objects! On February 9th at 6 pm the museum welcomes all to view the new edition of “98 Years Since the Sun Went Out” and of “The Land Office.” You won’t want to miss it!\nLeonard Oakes Winery will be providing a wine tasting during the event.\nIf you would like to attend\, please contact the museum at 585-343-4727 or hollandlandoffice@gmail.com.
URL:https://hollandlandoffice.com/event/hlom-reimagining-history-opening/
END:VEVENT
BEGIN:VEVENT
DTSTART;TZID=UTC:20240215T190000
DTEND;TZID=UTC:20240215T200000
DTSTAMP:20260424T131457
CREATED:20240131T210721Z
LAST-MODIFIED:20240131T210721Z
UID:2329-1708023600-1708027200@hollandlandoffice.com
SUMMARY:HLOM Guest Speaker Series: Rick Falkowski\, "The Spirit of Buffalo Women"
DESCRIPTION:The Holland Land Office Museum is proud to welcome as the first presenter of our 2024 Guest Speaker Series Rick Falkowski on Thursday\, February 15th at 7 pm. Mr. Falkowski is an author and lecturer who has given presentations on several aspects of WNY life and history\, will be presenting on his newest book\, “The Spirit of Buffalo Women: Prominent Women who called WNY their Home.” The book highlights the many accomplishments of local women throughout history and their lasting impact on our area. Admission is $5 or $3 for museum members.\n“This project is made possible with funds from the statewide Community Regrant Program\, a regrant program of the New York State Council on the Arts with the support of the office of the Governor and the New York State Legislature and administered by GO Art!”
URL:https://hollandlandoffice.com/event/hlom-guest-speaker-series-rick-falkowski-the-spirit-of-buffalo-women/
END:VEVENT
BEGIN:VEVENT
DTSTART;TZID=UTC:20240222T090000
DTEND;TZID=UTC:20240222T103000
DTSTAMP:20260424T131457
CREATED:20240131T210518Z
LAST-MODIFIED:20240131T210518Z
UID:2325-1708592400-1708597800@hollandlandoffice.com
SUMMARY:HLOM Java with Joe E.: Ryan Duffy\, "Presidential Visits to Genesee County"
DESCRIPTION:Join us at the Holland Land Office Museum for the next edition of our Java with Joe E. morning coffee series on Thursday\, February 22nd at 9 am. This month in honor of President’s Day our Director Ryan Duffy will share the many times that a sitting\, future\, or former President of the United States has visited Batavia and Genesee County\, it is more times than you think. Admission is free with pastries and coffee. Reservations are required\, please contact the museum at 585-343-4727 or hollandlandoffice@gmail.com to reserve your spot.\nWe want to thank Pub Coffee Hub for sponsoring Java with Joe E. for 2024.
URL:https://hollandlandoffice.com/event/hlom-java-with-joe-e-ryan-duffy-presidential-visits-to-genesee-county/
END:VEVENT
BEGIN:VEVENT
DTSTART;TZID=UTC:20240223T190000
DTEND;TZID=UTC:20240223T200000
DTSTAMP:20260424T131457
CREATED:20240202T160149Z
LAST-MODIFIED:20240202T160149Z
UID:2331-1708714800-1708718400@hollandlandoffice.com
SUMMARY:HLOM Guest Speaker Series: Rev. Jeremai Williams\, "Mt. Zion Missionary Baptist Church"
DESCRIPTION:The Holland Land Office Museum is proud to announce the next edition of our Guest Speaker Series on Friday\, February 23rd at 7 pm. We are happy to welcome Reverend Jeremai Williams of the Mt. Zion Missionary Baptist Church in Batavia. Reverend Williams will be presenting on the history and importance of the African American church\, along with church member Ethal Miles\, and his wife Dr. Cassandra Williams. Ethal will be speaking on the beginnings of the church and how things have changed\, and Dr. Williams will be speaking on important African Americans in medicine and her own perspective.\nAdmission is $5 or $3 for museum members. Please contact the museum at 585-343-4727 or hollandlandoffice@gmail.com if you would like to attend.\n“This project is made possible with funds from the statewide Community Regrant Program\, a regrant program of the New York State Council on the Arts with the support of the office of the Governor and the New York State Legislature and administered by GO ART!”
URL:https://hollandlandoffice.com/event/hlom-guest-speaker-series-rev-jeremai-williams-mt-zion-missionary-baptist-church/
END:VEVENT
END:VCALENDAR