BEGIN:VCALENDAR
VERSION:2.0
PRODID:-//Holand Land Office Museum - ECPv6.15.15//NONSGML v1.0//EN
CALSCALE:GREGORIAN
METHOD:PUBLISH
X-ORIGINAL-URL:https://hollandlandoffice.com
X-WR-CALDESC:Events for Holand Land Office Museum
REFRESH-INTERVAL;VALUE=DURATION:PT1H
X-Robots-Tag:noindex
X-PUBLISHED-TTL:PT1H
BEGIN:VTIMEZONE
TZID:UTC
BEGIN:STANDARD
TZOFFSETFROM:+0000
TZOFFSETTO:+0000
TZNAME:UTC
DTSTART:20210101T000000
END:STANDARD
END:VTIMEZONE
BEGIN:VEVENT
DTSTART;TZID=UTC:20220908T190000
DTEND;TZID=UTC:20220908T200000
DTSTAMP:20260424T234728
CREATED:20220129T203448Z
LAST-MODIFIED:20220901T163157Z
UID:1425-1662663600-1662667200@hollandlandoffice.com
SUMMARY:Trivia Night @ the Museum: Elizabeth I
DESCRIPTION:The Holland Land Office Museum is proud to announce its next Trivia Night at the museum on Thursday\, September 8th at 7 pm. This month we will be meeting at the GO ART! building located at 201 E. Main St. in Batavia. This month’s topic is Elizabeth I in honor of the queen’s birthday. Admission is $3 per person or $2 for museum members. Come and join us at GO ART!\, where you can also enjoy beverages served by Tavern 2.0 while testing your Elizabethan knowledge. Please contact the museum if you would like to attend at 585-343-4727 or hollandlandoffice@gmail.com.
URL:https://hollandlandoffice.com/event/trivia-night-the-museum-elizabeth-i/
END:VEVENT
BEGIN:VEVENT
DTSTART;TZID=UTC:20220914T190000
DTEND;TZID=UTC:20220914T200000
DTSTAMP:20260424T234728
CREATED:20220901T163308Z
LAST-MODIFIED:20220901T163308Z
UID:1603-1663182000-1663185600@hollandlandoffice.com
SUMMARY:Guest Speaker Series: Deanne Quinn Miller\, "The Prison Guard's Daughter"
DESCRIPTION:The Holland Land Office Museum is proud to announce its next presenter in our Guest Speaker Series on Wednesday\, September 14th at 7 pm. Deanne Quinn Miller will be presenting on her recently published book\, “A Prison Guard’s Daughter: My Journey Through the Ashes of Attica.” The book is her mission to find answers to the death of her father\, a corrections officer\, during the Attica Prison riot on September 13\, 1971. Copies of the book will also be available in the museum gift shop. Admission is $5 or $3 for museum members. If you would like to attend please contact the museum at 585-343-4727 or hollandlandoffice@gmail.com. \nThe Guest Speaker Series is made possible with funds from the Statewide Community Regrant Program\, a regrant program of the New York State Council on the Arts with the support of the office of the Governor and New York State Legislature and administered by Go ART!
URL:https://hollandlandoffice.com/event/guest-speaker-series-deanne-quinn-miller-the-prison-guards-daughter/
END:VEVENT
BEGIN:VEVENT
DTSTART;TZID=UTC:20220922T090000
DTEND;TZID=UTC:20220922T103000
DTSTAMP:20260424T234728
CREATED:20220901T163417Z
LAST-MODIFIED:20220901T163417Z
UID:1605-1663837200-1663842600@hollandlandoffice.com
SUMMARY:Java with Joe E.: Greg Van Dussen\, "Methodist Circuit Riders"
DESCRIPTION:The Holland Land Office Museum is proud to announce its next Java with Joe E. morning presentation series on Thursday\, September 22nd at 9 am. This month’s presenter is Greg Van Dussen. Mr. Van Dussen is a local author and former Methodist pastor. He has also taught at the Northeastern Seminary at Roberts Wesleyan College. His topic will be the Methodist Circuit Riders of North America\, focusing primarily in areas of the Northeast and Midwest. The presentation is free to attend and coffee and donuts will be provided. If you would like to attend please contact the museum at 585-343-4727 or hollandlandoffice@gmail.com.
URL:https://hollandlandoffice.com/event/java-with-joe-e-greg-van-dussen-methodist-circuit-riders/
END:VEVENT
BEGIN:VEVENT
DTSTART;TZID=UTC:20220930T190000
DTEND;TZID=UTC:20220930T200000
DTSTAMP:20260424T234728
CREATED:20220901T163548Z
LAST-MODIFIED:20220901T163548Z
UID:1607-1664564400-1664568000@hollandlandoffice.com
SUMMARY:West Side Batavia Ghost Stories
DESCRIPTION:The Holland Land Office Museum is proud to announce the return of its West Side Batavia Ghost Stories on Friday\, September 30th at 7 pm. Connie Boyd will be sharing the spooky\, sinister\, and weird documented stories from the West Side of Batavia’s past. Come and listen to tales of murder\, ghosts\, body snatching hangings\, and abandoned cemeteries. This presentation is the same as our Ghost Walk\, perfect for those who don’t want or aren’t able to go on our guided Ghost Walks. Tickets are $5/$3 for museum members. If you would like to attend please contact the museum at 585-343-4727. \n 
URL:https://hollandlandoffice.com/event/west-side-batavia-ghost-stories/
END:VEVENT
END:VCALENDAR