BEGIN:VCALENDAR
VERSION:2.0
PRODID:-//Holand Land Office Museum - ECPv6.15.15//NONSGML v1.0//EN
CALSCALE:GREGORIAN
METHOD:PUBLISH
X-WR-CALNAME:Holand Land Office Museum
X-ORIGINAL-URL:https://hollandlandoffice.com
X-WR-CALDESC:Events for Holand Land Office Museum
REFRESH-INTERVAL;VALUE=DURATION:PT1H
X-Robots-Tag:noindex
X-PUBLISHED-TTL:PT1H
BEGIN:VTIMEZONE
TZID:UTC
BEGIN:STANDARD
TZOFFSETFROM:+0000
TZOFFSETTO:+0000
TZNAME:UTC
DTSTART:20210101T000000
END:STANDARD
END:VTIMEZONE
BEGIN:VEVENT
DTSTART;TZID=UTC:20220608T190000
DTEND;TZID=UTC:20220608T200000
DTSTAMP:20260424T192859
CREATED:20220602T195309Z
LAST-MODIFIED:20220602T195309Z
UID:1549-1654714800-1654718400@hollandlandoffice.com
SUMMARY:Guest Speaker Series: Derrick Pratt\, “The Erie Canal & the Underground Railroad”
DESCRIPTION:The Holland Land Office Museum is proud to welcome Derrick Pratt of the Erie Canal Museum as its next presenter in its Guest Speaker Series on Wednesday\, June 8th at 7 pm. Mr. Pratt’s presentation\, “The Erie Canal and the Underground Railroad” will detail the important role that the Erie Canal played in the success of the Underground Railroad in New York State. Admission is $3 or $2 for museum members. If you would like to attend please contact the museum at 585-343-4727 or hollandlandoffice@gmail.com. \nThe Guest Speaker Series is made possible with funds from the Statewide Community Regrant Program\, a regrant program of the New York State Council on the Arts with the support of the office of the Governor and New York State Legislature and administered by GO ART!
URL:https://hollandlandoffice.com/event/guest-speaker-series-derrick-pratt-the-erie-canal-the-underground-railroad/
END:VEVENT
BEGIN:VEVENT
DTSTART;TZID=UTC:20220609T190000
DTEND;TZID=UTC:20220609T200000
DTSTAMP:20260424T192859
CREATED:20220129T203159Z
LAST-MODIFIED:20220402T153614Z
UID:1419-1654801200-1654804800@hollandlandoffice.com
SUMMARY:Trivia Night @ the Museum: Custer's Last Stand
DESCRIPTION:Join us at the Holland Land Office Museum on Thursday\, June 9 at 7 pm for the next edition of Trivia Night at the Museum. This month’s topic is Custer’s Last Stand in honor of the battle from 1876. Admission is $3 per person or $2 for museum members. Please contact the museum if you would like to attend at 585-343-4727 or hollandlandoffice@gmail.com.
URL:https://hollandlandoffice.com/event/trivia-night-the-museum-custers-last-stand/
END:VEVENT
BEGIN:VEVENT
DTSTART;TZID=UTC:20220616T190000
DTEND;TZID=UTC:20220616T210000
DTSTAMP:20260424T192859
CREATED:20220602T195559Z
LAST-MODIFIED:20220602T195559Z
UID:1553-1655406000-1655413200@hollandlandoffice.com
SUMMARY:Museum Concert Series- Jim E. Leggs Trio
DESCRIPTION:The Holland Land Office Museum is proud to welcome on Thursday\, June 16th from 7 pm to 9 pm the Jim E Leggs Trio as the next edition of our Museum Concert Series. Admission is $5 or $4 for museum members. If you would like to attend please contact the museum at 585-343-4727 or hollandlandoffice@gmail.com. The trio includes Frank “Cheech” Minuto\, Mick Savino\, and Pete Halliday. \n“Some folks have called the Jim E Leggs Trio somewhat of a hybrid band. From a Latin-infused take on Nat King Cole’s Nature Boy to updated arrangements of The Beatles\, Steely Dan and Sting\, the music of Jim E Leggs Trio offers an upbeat\, fun\, and varied mix of Jazz\, R&B and Pop that will lift your spirits. Their music is the thing with volcanos on some tunes\, to instrumentals that tell their story. Jim E Leggs Trio’s groove of well known tunes provide unexpected turns along the way.”
URL:https://hollandlandoffice.com/event/museum-concert-series-jim-e-leggs-trio/
END:VEVENT
BEGIN:VEVENT
DTSTART;TZID=UTC:20220623T090000
DTEND;TZID=UTC:20220623T103000
DTSTAMP:20260424T192859
CREATED:20220602T195922Z
LAST-MODIFIED:20220602T195937Z
UID:1555-1655974800-1655980200@hollandlandoffice.com
SUMMARY:Java with Joe E.- Genesee Area Genealogists
DESCRIPTION:The Holland Land Office Museum is proud to welcome the Genesee Area Genealogists as the next presenter in our Java with Joe E morning coffee group on Thursday\, June 23rd at 9 am. The group of local genealogists will detail their mission as well as the importance and fun of doing one’s family history. They will also share information on possible current projects that members are working on. The program is free to the public and includes coffee and donuts. If you would like to attend please contact the museum at 585-343-4727. \n 
URL:https://hollandlandoffice.com/event/java-with-joe-e-genesee-area-genealogists/
END:VEVENT
BEGIN:VEVENT
DTSTART;TZID=UTC:20220630T190000
DTEND;TZID=UTC:20220630T200000
DTSTAMP:20260424T192859
CREATED:20220602T200110Z
LAST-MODIFIED:20220602T200110Z
UID:1557-1656615600-1656619200@hollandlandoffice.com
SUMMARY:Guest Speaker Series: Ryan Duffy\, “Joseph Ellicott’s Ghost: The Lasting Impact of the Holland Land Company”
DESCRIPTION:Holland Land Office Museum Director Ryan Duffy will be presenting as part of our Guest Speaker Series on Thursday\, June 30th at 7 pm. Mr. Duffy’s presentation\, “Joseph Ellicott’s Ghost: The Lasting Impact of the Holland Land Company\,” will detail the ways in which we can still see the importance of the Holland Land Company today\, even though its height came 200 years ago. These ways include names of locations and connected people\, continued use of techniques and measurements\, and even their name being at the top of every deed in Western New York. Admission is $3 or $2 for museum members. If you would like to attend please contact the museum at 585-343-4727 or hollandlandoffice@gmail.com. \nThe Guest Speaker Series is made possible with funds from the Statewide Community Regrant Program\, a regrant program of the New York State Council on the Arts with the support of the office of the Governor and New York State Legislature and administered by GO ART!
URL:https://hollandlandoffice.com/event/guest-speaker-series-ryan-duffy-joseph-ellicotts-ghost-the-lasting-impact-of-the-holland-land-company/
END:VEVENT
END:VCALENDAR