BEGIN:VCALENDAR
VERSION:2.0
PRODID:-//Holand Land Office Museum - ECPv6.15.15//NONSGML v1.0//EN
CALSCALE:GREGORIAN
METHOD:PUBLISH
X-WR-CALNAME:Holand Land Office Museum
X-ORIGINAL-URL:https://hollandlandoffice.com
X-WR-CALDESC:Events for Holand Land Office Museum
REFRESH-INTERVAL;VALUE=DURATION:PT1H
X-Robots-Tag:noindex
X-PUBLISHED-TTL:PT1H
BEGIN:VTIMEZONE
TZID:UTC
BEGIN:STANDARD
TZOFFSETFROM:+0000
TZOFFSETTO:+0000
TZNAME:UTC
DTSTART:20210101T000000
END:STANDARD
END:VTIMEZONE
BEGIN:VEVENT
DTSTART;TZID=UTC:20220310T190000
DTEND;TZID=UTC:20220310T200000
DTSTAMP:20260421T171739
CREATED:20220129T202903Z
LAST-MODIFIED:20220204T201335Z
UID:1413-1646938800-1646942400@hollandlandoffice.com
SUMMARY:Trivia Night @ the Museum: Albert Einstein
DESCRIPTION:oin us at the Holland Land Office Museum on Thursday\, March 10 at 7 pm for the next edition of Trivia Night at the Museum. This month’s topic is Albert Einstein as we celebrate the theoretical physicist’s birthday. Admission is $3 per person or $2 for museum members. All in attendance are required to wear face coverings. Please contact the museum if you would like to attend at 585-343-4727 or hollandlandoffice@gmail.com. You can also join us via Zoom by following the link below: \nhttps://us02web.zoom.us/j/81834953755?pwd=QnJNNitGWnBmY2hQeDB4TGEybWZodz09 \nMeeting ID: 818 3495 3755\nPasscode: 674138
URL:https://hollandlandoffice.com/event/trivia-night-the-museum-albert-einstein/
END:VEVENT
BEGIN:VEVENT
DTSTART;TZID=UTC:20220311T190000
DTEND;TZID=UTC:20220311T200000
DTSTAMP:20260421T171739
CREATED:20220204T201929Z
LAST-MODIFIED:20220204T202026Z
UID:1462-1647025200-1647028800@hollandlandoffice.com
SUMMARY:Irish Music Night with No Blarney!
DESCRIPTION:Get in the St. Patrick’s Day spirit with Batavia natives No Blarney! as they get us off our feet and dancing to traditional Irish music. Tickets $5 per person and $4 for museum members. Please R.S.V.P. to the museum by email at hollandlandoffice@gmail.com or call the museum to R.S.V.P. at 585-343-4727. Seating is limited to 30 people. Masks are required.
URL:https://hollandlandoffice.com/event/rish-music-night-with-no-blarney/
END:VEVENT
BEGIN:VEVENT
DTSTART;TZID=UTC:20220322T190000
DTEND;TZID=UTC:20220322T200000
DTSTAMP:20260421T171739
CREATED:20220204T201838Z
LAST-MODIFIED:20220204T202104Z
UID:1460-1647975600-1647979200@hollandlandoffice.com
SUMMARY:Guest Speaker Series- Susan Eck\, "Emblem of Equality: Woman Suffrage in WNY"
DESCRIPTION:Join us for the next edition of our Guest Speaker Series on Tuesday\, March 22nd at 7 pm as we welcome back Susan Eck. She will be sharing her presentation “Emblem of Equality: Woman Suffrage in WNY.” The presentation focuses on the words of a gifted Buffalo columnist who with humor and passion leads us through those exciting decades of the Western New York suffrage movement. Admission is $3/$2 for museum members. Masks are required. You can also join us via Zoom by following the links below.\nhttps://us02web.zoom.us/j/82605710520?pwd=UWNpTG83ZUxsR0JnNWlyQ1o3ak96QT09\nMeeting ID: 826 0571 0520\nPasscode: 828147\nThe Guest Speaker Series is made possible with funds from the Statewide Community Regrant Program\, a regrant program of the New York State council on the Arts with the support of the office of the Governor and the New York State Legislature and administered by GO ART!
URL:https://hollandlandoffice.com/event/guest-speaker-series-susan-eck-emblem-of-equality-woman-suffrage-in-wny/
END:VEVENT
BEGIN:VEVENT
DTSTART;TZID=UTC:20220324T090000
DTEND;TZID=UTC:20220324T103000
DTSTAMP:20260421T171740
CREATED:20220204T201659Z
LAST-MODIFIED:20220223T173317Z
UID:1458-1648112400-1648117800@hollandlandoffice.com
SUMMARY:Java with Joe E.- Mary Ellen Reardon\, "Seven Springs Country Club"
DESCRIPTION:Join us for the next edition of our Java with Joe E. morning presentation group on Thursday\, March 24 at 9 am. This month we welcome local author and researcher Mary Ellen Reardon as she shares the history of Seven Springs Country Club through her book “Seven Springs Country Club: A Century of Stewardship.”\nSeven Springs Country Club is a hidden gem that has played a quiet but important role in Genesee County’s history. The Club was founded in 1911 as a conservation area and outdoor recreation space. William Russell purchased the land for his father\, Edward. Mr. Edward Russell formed the club with 28 charter members. Over 40\,000 trees were planted\, turning the once swampy pasture into beautiful and peaceful woods. Today Seven Springs is home to a thriving community\, a mix of year-round residents and non-residents. Current members of the Club carry on the vision of its founders while continuing to honor the land. water\, and woods. The history of the Club began as a small research project that grew into a book. The author\, Mary Ellen Reardon has been a part of Seven Springs for over 30 years. She hopes readers enjoy the history of this Genesee County spot as much as she has enjoyed researching and writing it. For more information about Seven Springs Country Club\, please send inquiries to sevenspringscountryclub@gmail.com \nThe event is free to the public. Masks are required. The program will also be available via Zoom. Please follow the links below.\nhttps://us02web.zoom.us/j/84919665347?pwd=aEd4cVdPMU9FUWEzMWJOcWhrYkhCUT09\nMeeting ID: 849 1966 5347\nPasscode: 37182
URL:https://hollandlandoffice.com/event/java-with-joe-e-mary-ellen-reardon-seven-springs-country-club/
END:VEVENT
END:VCALENDAR