BEGIN:VCALENDAR
VERSION:2.0
PRODID:-//Holand Land Office Museum - ECPv6.15.15//NONSGML v1.0//EN
CALSCALE:GREGORIAN
METHOD:PUBLISH
X-ORIGINAL-URL:https://hollandlandoffice.com
X-WR-CALDESC:Events for Holand Land Office Museum
REFRESH-INTERVAL;VALUE=DURATION:PT1H
X-Robots-Tag:noindex
X-PUBLISHED-TTL:PT1H
BEGIN:VTIMEZONE
TZID:UTC
BEGIN:STANDARD
TZOFFSETFROM:+0000
TZOFFSETTO:+0000
TZNAME:UTC
DTSTART:20210101T000000
END:STANDARD
END:VTIMEZONE
BEGIN:VEVENT
DTSTART;TZID=UTC:20220210T190000
DTEND;TZID=UTC:20220210T200000
DTSTAMP:20260421T153827
CREATED:20220129T202809Z
LAST-MODIFIED:20220204T201058Z
UID:1411-1644519600-1644523200@hollandlandoffice.com
SUMMARY:Trivia Night @ the Museum: Thomas Edison
DESCRIPTION:Join us at the Holland Land Office Museum on Thursday\, February 10 at 7 pm for the next edition of Trivia Night at the Museum. This month’s topic is Thomas Edison as we celebrate the famous inventor’s birthday. Admission is $3 per person or $2 for museum members. All in attendance are required to wear face coverings. Please contact the museum if you would like to attend at 585-343-4727 or hollandlandoffice@gmail.com. You can also join us via Zoom by following the link below: \nhttps://us02web.zoom.us/j/84074231543?pwd=OStqZlFEV0p4eWJDVDRrRmR6emZHQT09 \nMeeting ID: 840 7423 1543\nPasscode: 753401
URL:https://hollandlandoffice.com/event/trivia-night-the-museum-thomas-edison/
END:VEVENT
BEGIN:VEVENT
DTSTART;TZID=UTC:20220224T090000
DTEND;TZID=UTC:20220224T103000
DTSTAMP:20260421T153827
CREATED:20220204T201535Z
LAST-MODIFIED:20220204T202002Z
UID:1456-1645693200-1645698600@hollandlandoffice.com
SUMMARY:Java with Joe E.- Michael Eula\, "Too Often Forgotten: Female Slaves & Poor Women in Genesee County
DESCRIPTION:Join us on for the next edition of our Java with Joe E. morning presentation event on Thursday\, February 24th at 9 am. Genesee County Historian Michael Eula will be sharing his presentation\, “Too Often Forgotten: Female Slaves and Poor Women in Genesee County” It details the lives and hardships of freed slaves and poor women during the history of Genesee County. The event is free to the public. Masks are required. You can also join via Zoom using the links below.\nhttps://us02web.zoom.us/j/83000381688?pwd=Zjh2blkwUjVlNXVhS3o4WUhodUVtZz09\nMeeting ID: 830 0038 1688\nPasscode: 936670
URL:https://hollandlandoffice.com/event/java-with-joe-e-michael-eula-too-often-forgotten-female-slaves-poor-women-in-genesee-county/
END:VEVENT
BEGIN:VEVENT
DTSTART;TZID=UTC:20220225T190000
DTEND;TZID=UTC:20220225T200000
DTSTAMP:20260421T153827
CREATED:20220211T193203Z
LAST-MODIFIED:20220211T193203Z
UID:1469-1645815600-1645819200@hollandlandoffice.com
SUMMARY:Guest Speaker Series- Donald Druitt\, "Frederick Douglass- The Slave\, a Freed Man\, and Abolitionist"
DESCRIPTION:Join us on Friday\, February 25th at 7 pm as we welcome our next presenter in our Guest Speaker Series. We welcome Donald Druitt\, an avid Frederick Douglass reenactor\, who be visiting with virtually as we take in a rendition of his one man play “Frederick Douglass- The Slave\, a Freed Man\, and Abolitionist”. As we watch his telling of three particular parts of Douglass’s life\, Mr. Druitt will be available to answer questions and share other interesting knowledge associated with Frederick Douglass. Admission is $3/$2 for museum members. Masks are required for all in attendance. The program will also be available via Zoom. You can find the links below. https://us02web.zoom.us/j/84792411788…\nMeeting ID: 847 9241 1788 Passcode: 302906.\nThe Guest Speaker Series is made possible with funds from the Statewide Community Regrant Program\, a regrant program of the New York State council on the Arts with the support of the office of the Governor and the New York State Legislature and administered by GO ART!
URL:https://hollandlandoffice.com/event/guest-speaker-series-donald-druitt-frederick-douglass-the-slave-a-freed-man-and-abolitionist/
END:VEVENT
END:VCALENDAR