BEGIN:VCALENDAR
VERSION:2.0
PRODID:-//Holand Land Office Museum - ECPv6.15.15//NONSGML v1.0//EN
CALSCALE:GREGORIAN
METHOD:PUBLISH
X-ORIGINAL-URL:https://hollandlandoffice.com
X-WR-CALDESC:Events for Holand Land Office Museum
REFRESH-INTERVAL;VALUE=DURATION:PT1H
X-Robots-Tag:noindex
X-PUBLISHED-TTL:PT1H
BEGIN:VTIMEZONE
TZID:UTC
BEGIN:STANDARD
TZOFFSETFROM:+0000
TZOFFSETTO:+0000
TZNAME:UTC
DTSTART:20200101T000000
END:STANDARD
END:VTIMEZONE
BEGIN:VEVENT
DTSTART;TZID=UTC:20210812T190000
DTEND;TZID=UTC:20210812T200000
DTSTAMP:20260419T202222
CREATED:20210702T190249Z
LAST-MODIFIED:20210702T190647Z
UID:1187-1628794800-1628798400@hollandlandoffice.com
SUMMARY:History Trivia Night @ the Museum: Napoleon Bonaparte
DESCRIPTION:Join us Thursday\, August 12th at 7 pm at the Holland Land Office to test your knowledge of Napoleon Bonaparte in honor of his birthday on August 15th. Admission is $3 per person or $2 for museum members. If you would like to attend please call the museum at 585-343-4727. The program will also be available via Zoom. Please follow the links below. \nhttps://us02web.zoom.us/j/88555420482?pwd=b2s3R2dtWE9lMnVRNWo3ZmJ2WFoxQT09 \nMeeting ID: 885 5542 0482\nPasscode: 411166
URL:https://hollandlandoffice.com/event/history-trivia-night-the-museum-3/
END:VEVENT
BEGIN:VEVENT
DTSTART;TZID=UTC:20210814T110000
DTEND;TZID=UTC:20210814T150000
DTSTAMP:20260419T202222
CREATED:20210717T184846Z
LAST-MODIFIED:20210717T184846Z
UID:1213-1628938800-1628953200@hollandlandoffice.com
SUMMARY:2021 History Heroes Summer Program: Fun in the Roaring '20s
DESCRIPTION:The History Heroes Summer Program will be running Saturdays at the Holland Land Office Museum from 11 am- 3 pm. The dates are: July 24\, August 14\, August 21\, August 28 and September 4. The theme is “Fun in the Roaring 20s”\, learning about different aspects of life 100 years ago. Join us to learn about the 1920s! Dance\, sing\, read\, play\, create\, explore\, and learn some history. The program will explore many facets of the era through many creative and interactive activities. and includes daily local walking field trips around Batavia.\nThe program is open to children 7-12 and is limited to 16 participants each day. Registration is available for each individual day or for all five. Admission is $10 per child with discounts for multiple children and museum members. The program includes a field trip on September 4th to the Arcade & Attica Railroad\, which has a $20 admission.\nRegistration forms can be found below\, at the museum’s website www.hollandlandoffice.com\, or by contacting the museum at 585-343-4727. Masks and social distancing requirements are required. Lunches are available for participants.\nThis project is made possible with funds from the Decentralization Program\, a regrant program of the New York State council on the Arts with the support of Governor Andrew Cuomo and the New York State Legislature and administered by Go ART!
URL:https://hollandlandoffice.com/event/2021-history-heroes-summer-program-fun-in-the-roaring-20s-2/
END:VEVENT
BEGIN:VEVENT
DTSTART;TZID=UTC:20210818T190000
DTEND;TZID=UTC:20210818T200000
DTSTAMP:20260419T202222
CREATED:20210702T190437Z
LAST-MODIFIED:20210702T190437Z
UID:1189-1629313200-1629316800@hollandlandoffice.com
SUMMARY:Guest Speaker Series: Derek Maxfield "Hellmira"
DESCRIPTION:Join us on Wednesday\, August 18th at 7 pm at the Holland Land Office Museum as we welcome local history professor and author Derek Maxfield. Mr. Maxfield will be discussing his book on the Elmira Civil War prisoner camp that was nicknamed “Hellmira” due to its deplorable conditions. Copies of his book will be available for sale and there will be an opportunity for the author to sign any copies. Admission is $3 per person or $2 for museum members. If you plan on attending please contact the museum at 585-343-4727. The presentation will also be available via Zoom. Please follow the links below. Copies of the book will be available for sale. \nhttps://us02web.zoom.us/j/87893627177?pwd=QmRwbjdvalhLN0hIZlNxQU8zMkQ3UT09 \nMeeting ID: 878 9362 7177\nPasscode: 859392
URL:https://hollandlandoffice.com/event/guest-speaker-series-derek-maxfield-hellmira/
END:VEVENT
BEGIN:VEVENT
DTSTART;TZID=UTC:20210821T110000
DTEND;TZID=UTC:20210821T150000
DTSTAMP:20260419T202222
CREATED:20210717T184936Z
LAST-MODIFIED:20210717T184936Z
UID:1215-1629543600-1629558000@hollandlandoffice.com
SUMMARY:2021 History Heroes Summer Program: Fun in the Roaring '20s
DESCRIPTION:The History Heroes Summer Program will be running Saturdays at the Holland Land Office Museum from 11 am- 3 pm. The dates are: July 24\, August 14\, August 21\, August 28 and September 4. The theme is “Fun in the Roaring 20s”\, learning about different aspects of life 100 years ago. Join us to learn about the 1920s! Dance\, sing\, read\, play\, create\, explore\, and learn some history. The program will explore many facets of the era through many creative and interactive activities. and includes daily local walking field trips around Batavia.\nThe program is open to children 7-12 and is limited to 16 participants each day. Registration is available for each individual day or for all five. Admission is $10 per child with discounts for multiple children and museum members. The program includes a field trip on September 4th to the Arcade & Attica Railroad\, which has a $20 admission.\nRegistration forms can be found below\, at the museum’s website www.hollandlandoffice.com\, or by contacting the museum at 585-343-4727. Masks and social distancing requirements are required. Lunches are available for participants.\nThis project is made possible with funds from the Decentralization Program\, a regrant program of the New York State council on the Arts with the support of Governor Andrew Cuomo and the New York State Legislature and administered by Go ART!
URL:https://hollandlandoffice.com/event/2021-history-heroes-summer-program-fun-in-the-roaring-20s-3/
END:VEVENT
END:VCALENDAR