BEGIN:VCALENDAR
VERSION:2.0
PRODID:-//Holand Land Office Museum - ECPv6.15.15//NONSGML v1.0//EN
CALSCALE:GREGORIAN
METHOD:PUBLISH
X-ORIGINAL-URL:https://hollandlandoffice.com
X-WR-CALDESC:Events for Holand Land Office Museum
REFRESH-INTERVAL;VALUE=DURATION:PT1H
X-Robots-Tag:noindex
X-PUBLISHED-TTL:PT1H
BEGIN:VTIMEZONE
TZID:UTC
BEGIN:STANDARD
TZOFFSETFROM:+0000
TZOFFSETTO:+0000
TZNAME:UTC
DTSTART:20230101T000000
END:STANDARD
END:VTIMEZONE
BEGIN:VEVENT
DTSTART;TZID=UTC:20240516T100000
DTEND;TZID=UTC:20241231T160000
DTSTAMP:20260421T121010
CREATED:20240420T190715Z
LAST-MODIFIED:20240420T190715Z
UID:2423-1715853600-1735660800@hollandlandoffice.com
SUMMARY:HLOM Exhibit: "Heavenly Traditions & Holy Matrimony\, Weddings Through Time"
DESCRIPTION:“Heavenly Traditions and Holy Matrimony: Weddings Through Time\,” is an exhibit that will take you through decades of wedding dress styles\, and traditions. This exhibit will show how one of the most sacred events for a couple has changed through decades and even centuries. Various influences and societal changes are at the heart of the traditions and events that hold weddings today. Come view items from the 19th century through the 20th century\, that represent different eras and how we have ended up with the weddings that we know today. The exhibit will be on display during normal museum hours from May 16th through December 31st.\nThank you to our sponsors: Batavia Downs Gaming & Hotel\, Terry Hills Golf Course and Valle Jewelers.
URL:https://hollandlandoffice.com/event/hlom-exhibit-heavenly-traditions-holy-matrimony-weddings-through-time/
END:VEVENT
BEGIN:VEVENT
DTSTART;TZID=UTC:20240628T190000
DTEND;TZID=UTC:20240628T200000
DTSTAMP:20260421T121010
CREATED:20240521T222246Z
LAST-MODIFIED:20240521T222246Z
UID:2449-1719601200-1719604800@hollandlandoffice.com
SUMMARY:Concert Series: Don Dwyer\, "Music of the Women of the Civil War"
DESCRIPTION:The Holland Land Office Museum is proud to announce the next edition of its Concert Series on Friday\, June 28 at 7 pm. Don Dwyer will be playing “The Music of the Women of the Civil War.” The program includes songs either written or inspired by women in the 1850s and 1860s. Admission is $5 or $4 for museum members. If you plan to attend\, please contact the museum at 585-343-4727. \n “This project is made possible with funds from the Statewide Community Regrant Program\, a regrant program of the New York State Council on the Arts with the support of the office of the Governor and the New York State Legislature and administered by GO ART!”
URL:https://hollandlandoffice.com/event/concert-series-don-dwyer-music-of-the-women-of-the-civil-war/
END:VEVENT
END:VCALENDAR