BEGIN:VCALENDAR
VERSION:2.0
PRODID:-//Holand Land Office Museum - ECPv6.15.15//NONSGML v1.0//EN
CALSCALE:GREGORIAN
METHOD:PUBLISH
X-WR-CALNAME:Holand Land Office Museum
X-ORIGINAL-URL:https://hollandlandoffice.com
X-WR-CALDESC:Events for Holand Land Office Museum
REFRESH-INTERVAL;VALUE=DURATION:PT1H
X-Robots-Tag:noindex
X-PUBLISHED-TTL:PT1H
BEGIN:VTIMEZONE
TZID:UTC
BEGIN:STANDARD
TZOFFSETFROM:+0000
TZOFFSETTO:+0000
TZNAME:UTC
DTSTART:20230101T000000
END:STANDARD
END:VTIMEZONE
BEGIN:VEVENT
DTSTART;TZID=UTC:20240315T190000
DTEND;TZID=UTC:20240315T210000
DTSTAMP:20260424T222528
CREATED:20240203T200931Z
LAST-MODIFIED:20240203T200931Z
UID:2343-1710529200-1710536400@hollandlandoffice.com
SUMMARY:HLOM Concert Series: Irish Music with No Blarney!
DESCRIPTION:The Holland Land Office Museum is proud to welcome back No Blarney for our St. Patrick’s Day tradition\, as they play all your favorite Irish music tunes from throughout the years. The concert will be Friday\, March 15 from 7-9 pm. Admission is $5 or $4 for museum members. Please contact the museum at 585-343-4727 or hollandlandoffice@gmail.com. Seating is limited to reserve your spot early.\n“This project is made possible with funds from the Statewide Community Regrant Program\, a regrant program of the New York State Council on the Arts with the support of the office of the Governor and the New York State Legislature and administered by GO ART!”
URL:https://hollandlandoffice.com/event/hlom-concert-series-irish-music-with-no-blarney/
END:VEVENT
END:VCALENDAR