BEGIN:VCALENDAR
VERSION:2.0
PRODID:-//Holand Land Office Museum - ECPv6.15.15//NONSGML v1.0//EN
CALSCALE:GREGORIAN
METHOD:PUBLISH
X-ORIGINAL-URL:https://hollandlandoffice.com
X-WR-CALDESC:Events for Holand Land Office Museum
REFRESH-INTERVAL;VALUE=DURATION:PT1H
X-Robots-Tag:noindex
X-PUBLISHED-TTL:PT1H
BEGIN:VTIMEZONE
TZID:UTC
BEGIN:STANDARD
TZOFFSETFROM:+0000
TZOFFSETTO:+0000
TZNAME:UTC
DTSTART:20230101T000000
END:STANDARD
END:VTIMEZONE
BEGIN:VEVENT
DTSTART;TZID=UTC:20240314T190000
DTEND;TZID=UTC:20240314T200000
DTSTAMP:20260424T205423
CREATED:20240203T200816Z
LAST-MODIFIED:20240203T200816Z
UID:2341-1710442800-1710446400@hollandlandoffice.com
SUMMARY:HLOM Trivia Night @ the Museum: Famous Women of History
DESCRIPTION:Join us at Holland Land Office Museum for the next edition of our Trivia Night at the Museum on Thursday\, March 14th at 7 pm. In honor of Women’s History Month\, our topic is Famous Women of History. Admission is $5 or $3 for museum members. Please contact the museum at 585-343-4727 or hollandlandoffice@gmail.com if you would like to attend.
URL:https://hollandlandoffice.com/event/hlom-trivia-night-the-museum-famous-women-of-history/
END:VEVENT
END:VCALENDAR