BEGIN:VCALENDAR
VERSION:2.0
PRODID:-//Holand Land Office Museum - ECPv6.15.15//NONSGML v1.0//EN
CALSCALE:GREGORIAN
METHOD:PUBLISH
X-WR-CALNAME:Holand Land Office Museum
X-ORIGINAL-URL:https://hollandlandoffice.com
X-WR-CALDESC:Events for Holand Land Office Museum
REFRESH-INTERVAL;VALUE=DURATION:PT1H
X-Robots-Tag:noindex
X-PUBLISHED-TTL:PT1H
BEGIN:VTIMEZONE
TZID:UTC
BEGIN:STANDARD
TZOFFSETFROM:+0000
TZOFFSETTO:+0000
TZNAME:UTC
DTSTART:20230101T000000
END:STANDARD
END:VTIMEZONE
BEGIN:VEVENT
DTSTART;TZID=UTC:20240222T090000
DTEND;TZID=UTC:20240222T103000
DTSTAMP:20260424T144010
CREATED:20240131T210518Z
LAST-MODIFIED:20240131T210518Z
UID:2325-1708592400-1708597800@hollandlandoffice.com
SUMMARY:HLOM Java with Joe E.: Ryan Duffy\, "Presidential Visits to Genesee County"
DESCRIPTION:Join us at the Holland Land Office Museum for the next edition of our Java with Joe E. morning coffee series on Thursday\, February 22nd at 9 am. This month in honor of President’s Day our Director Ryan Duffy will share the many times that a sitting\, future\, or former President of the United States has visited Batavia and Genesee County\, it is more times than you think. Admission is free with pastries and coffee. Reservations are required\, please contact the museum at 585-343-4727 or hollandlandoffice@gmail.com to reserve your spot.\nWe want to thank Pub Coffee Hub for sponsoring Java with Joe E. for 2024.
URL:https://hollandlandoffice.com/event/hlom-java-with-joe-e-ryan-duffy-presidential-visits-to-genesee-county/
END:VEVENT
END:VCALENDAR