BEGIN:VCALENDAR
VERSION:2.0
PRODID:-//Holand Land Office Museum - ECPv6.15.15//NONSGML v1.0//EN
CALSCALE:GREGORIAN
METHOD:PUBLISH
X-ORIGINAL-URL:https://hollandlandoffice.com
X-WR-CALDESC:Events for Holand Land Office Museum
REFRESH-INTERVAL;VALUE=DURATION:PT1H
X-Robots-Tag:noindex
X-PUBLISHED-TTL:PT1H
BEGIN:VTIMEZONE
TZID:UTC
BEGIN:STANDARD
TZOFFSETFROM:+0000
TZOFFSETTO:+0000
TZNAME:UTC
DTSTART:20230101T000000
END:STANDARD
END:VTIMEZONE
BEGIN:VEVENT
DTSTART;TZID=UTC:20240209T180000
DTEND;TZID=UTC:20240209T200000
DTSTAMP:20260424T144020
CREATED:20231226T193926Z
LAST-MODIFIED:20231226T193926Z
UID:2302-1707501600-1707508800@hollandlandoffice.com
SUMMARY:HLOM Reimagining History Opening
DESCRIPTION:When the museum reopens in February\, it will be “Reimagining History”. This project developed by Museum Curator Tyler Angora is the steppingstone into a new era for the Holland Land Office Museum. “Reimagining History” will showcase a redesign of exhibits and exhibit spaces on the bottom level of the original structure of the Holland Land Office. Our permanent exhibit\, “The Land Office\,” will be presented with a new flow of story and presentation of artifacts. Also\, the opening will showcase the newly revamped and enlarger exhibit\, “98 Years Since the Sun Went Out.” In its new location in the old room where The Land Office” used to reside\, it will triple in size and truly show what Genesee County looked like back in 1925 when the last total solar eclipse occurred over this area. There will be more history integrated into the exhibit along with many new objects! On February 9th at 6 pm the museum welcomes all to view the new edition of “98 Years Since the Sun Went Out” and of “The Land Office.” You won’t want to miss it!\nLeonard Oakes Winery will be providing a wine tasting during the event.\nIf you would like to attend\, please contact the museum at 585-343-4727 or hollandlandoffice@gmail.com.
URL:https://hollandlandoffice.com/event/hlom-reimagining-history-opening/
END:VEVENT
END:VCALENDAR