BEGIN:VCALENDAR
VERSION:2.0
PRODID:-//Holand Land Office Museum - ECPv6.15.15//NONSGML v1.0//EN
CALSCALE:GREGORIAN
METHOD:PUBLISH
X-ORIGINAL-URL:https://hollandlandoffice.com
X-WR-CALDESC:Events for Holand Land Office Museum
REFRESH-INTERVAL;VALUE=DURATION:PT1H
X-Robots-Tag:noindex
X-PUBLISHED-TTL:PT1H
BEGIN:VTIMEZONE
TZID:UTC
BEGIN:STANDARD
TZOFFSETFROM:+0000
TZOFFSETTO:+0000
TZNAME:UTC
DTSTART:20220101T000000
END:STANDARD
END:VTIMEZONE
BEGIN:VEVENT
DTSTART;TZID=UTC:20231108T100000
DTEND;TZID=UTC:20231230T160000
DTSTAMP:20260424T100512
CREATED:20231019T195140Z
LAST-MODIFIED:20231019T195616Z
UID:2185-1699437600-1703952000@hollandlandoffice.com
SUMMARY:HLOM Exhibit: "98 Years Since the Sun Went Out"
DESCRIPTION:98 Years Since the Sun Went Out- Sponsored by Max Pies Furniture \nCome to the Holland Land Office Museum and see a snapshot of Genesee County and Batavia in the 1920s’ through our upcoming exhibit\, “98 Years Since the Sun Went Out.” The display will be from November 2023 to April 2024. Experience what living in Genesee County in 1920s’ was like and the commotion around January 24\, 1925\, the last time we witnessed the total solar eclipse in our area. Go back in time and see what people wore\, what our community looked like\, where people shopped and worked\, their home lives\, and how they saw and reacted to the eclipse. \nA revamp of the exhibit will occur in January which will open on February 9th \, 2024\, which will include even more artifacts and a greater experience of what 1920s’ Genesee County and Batavia looked and felt like.
URL:https://hollandlandoffice.com/event/hlom-exhibit-98-years-since-the-sun-went-out/
END:VEVENT
BEGIN:VEVENT
DTSTART;TZID=UTC:20231117T180000
DTEND;TZID=UTC:20231117T203000
DTSTAMP:20260424T100512
CREATED:20231027T151539Z
LAST-MODIFIED:20231027T151539Z
UID:2194-1700244000-1700253000@hollandlandoffice.com
SUMMARY:22nd Wonderland of Trees "The 12 Days of Christmas" Opening Gala
DESCRIPTION:Come and experience the 22nd annual Wonderland of Trees! The opening gala will occur on Friday\, November 17th from 6:00 to 8:30 pm at the Holland Land Office Museum. This year’s theme is “The 12 Days of Christmas.” Visit the museum to see all the wonderfully decorated trees and displays by local businesses and organizations. This year’s opening gala will feature many great gift baskets to win\, including an extra special grand basket. The night will also feature holiday music by the Genesee Symphony Orchestra. After dinner hors d’oeuvers provided by D&R Depot Restaurant. Tickets are $20\, $15 for museum members\, and $5 for children 12 and under.\nThe Wonderland of Trees will run through the end of December. The basket raffle winners will be drawn Friday\, December 15th. Further holiday events will also be held throughout the season. If you would like to participate by decorating a tree or contributing a basket\, or general sponsorship\, please contact the museum.
URL:https://hollandlandoffice.com/event/22nd-wonderland-of-trees-the-12-days-of-christmas-opening-gala/
END:VEVENT
END:VCALENDAR