BEGIN:VCALENDAR
VERSION:2.0
PRODID:-//Holand Land Office Museum - ECPv6.15.15//NONSGML v1.0//EN
CALSCALE:GREGORIAN
METHOD:PUBLISH
X-ORIGINAL-URL:https://hollandlandoffice.com
X-WR-CALDESC:Events for Holand Land Office Museum
REFRESH-INTERVAL;VALUE=DURATION:PT1H
X-Robots-Tag:noindex
X-PUBLISHED-TTL:PT1H
BEGIN:VTIMEZONE
TZID:UTC
BEGIN:STANDARD
TZOFFSETFROM:+0000
TZOFFSETTO:+0000
TZNAME:UTC
DTSTART:20220101T000000
END:STANDARD
END:VTIMEZONE
BEGIN:VEVENT
DTSTART;TZID=UTC:20230705T100000
DTEND;TZID=UTC:20231104T160000
DTSTAMP:20260424T082501
CREATED:20230629T214415Z
LAST-MODIFIED:20230629T214415Z
UID:1900-1688551200-1699113600@hollandlandoffice.com
SUMMARY:New Exhibit- Memento Mori: Historic Batavia Cemetery 200 Years\, 1823-2023
DESCRIPTION:The Holland Land Office Museum is proud to announce the opening of its next exhibit\, “Memento Mori: The Historic Batavia Cemetery\, 200 Years\, 1823-2023”. The exhibit will be on display from Wednesday\, July 5th through Saturday\, November 4th. The exhibit details the 200 year history of the cemetery\, lives of some of the famous Batavians who are buried there\, cemetery artifacts\, as well as examples of how people have mourned the loss of their love through the past 200 years. The exhibit is done in collaboration with the Historic Batavia Cemetery Association.
URL:https://hollandlandoffice.com/event/new-exhibit-memento-mori-historic-batavia-cemetery-200-years-1823-2023/
END:VEVENT
BEGIN:VEVENT
DTSTART;TZID=UTC:20231003T100000
DTEND;TZID=UTC:20231031T160000
DTSTAMP:20260424T082501
CREATED:20230726T141332Z
LAST-MODIFIED:20230726T141332Z
UID:2002-1696327200-1698768000@hollandlandoffice.com
SUMMARY:HLOM Mini-Exhibit: The Decomposing Past: Textiles
DESCRIPTION:Come to the Holland Land Office Museum to see the first in a series of mini-exhibits focusing on materials and objects of our collection that have suffered from neglect and time. The Decomposing Past series will begin with textiles from Tuesday\, October 3rd to Tuesday\, October 31st. The objective of this multipart exhibit series is to bring awareness to the importance of museum work and the preservation of the physical past. The first installment is focusing on textiles and clothing across 180 years (1750-1930)! Admission to the exhibit is included in regular museum admission. \nAlong with the exhibit\, our curator will be hosting a textile workshop on October 21st\, discussing various preservation methods and various items housed in the HLOM Clothing Collection!
URL:https://hollandlandoffice.com/event/hlom-mini-exhibit-the-decomposing-past-textiles/
END:VEVENT
BEGIN:VEVENT
DTSTART;TZID=UTC:20231018T190000
DTEND;TZID=UTC:20231018T200000
DTSTAMP:20260424T082501
CREATED:20230504T172238Z
LAST-MODIFIED:20230906T210521Z
UID:1834-1697655600-1697659200@hollandlandoffice.com
SUMMARY:HLOM Concert Series: Strummerz
DESCRIPTION:The Holland Land Office Museum is proud to announce the next edition of its concert series on Wednesday\, October 18 at 7 pm. The museum welcomes local rock duo Strummerz\, you may also know them as No Blarney!\, as they play all your favorite classic rock hits. Admission is $5 or $4 for museum members. Please contact the museum at 585-343-4727 or hollandlandoffice@gmail.com if you would like to attend. \n“This project is made possible with funds from the Statewide Community Regrant Program\, a regrant program of the New York State Council on the Arts with the support of the office of the Governor and the New York State Legislature and administered by GO ART!”
URL:https://hollandlandoffice.com/event/hlom-concert-series-strummerz/
END:VEVENT
END:VCALENDAR