BEGIN:VCALENDAR
VERSION:2.0
PRODID:-//Holand Land Office Museum - ECPv6.15.15//NONSGML v1.0//EN
CALSCALE:GREGORIAN
METHOD:PUBLISH
X-ORIGINAL-URL:https://hollandlandoffice.com
X-WR-CALDESC:Events for Holand Land Office Museum
REFRESH-INTERVAL;VALUE=DURATION:PT1H
X-Robots-Tag:noindex
X-PUBLISHED-TTL:PT1H
BEGIN:VTIMEZONE
TZID:UTC
BEGIN:STANDARD
TZOFFSETFROM:+0000
TZOFFSETTO:+0000
TZNAME:UTC
DTSTART:20220101T000000
END:STANDARD
END:VTIMEZONE
BEGIN:VEVENT
DTSTART;TZID=UTC:20230705T100000
DTEND;TZID=UTC:20231104T160000
DTSTAMP:20260421T171839
CREATED:20230629T214415Z
LAST-MODIFIED:20230629T214415Z
UID:1900-1688551200-1699113600@hollandlandoffice.com
SUMMARY:New Exhibit- Memento Mori: Historic Batavia Cemetery 200 Years\, 1823-2023
DESCRIPTION:The Holland Land Office Museum is proud to announce the opening of its next exhibit\, “Memento Mori: The Historic Batavia Cemetery\, 200 Years\, 1823-2023”. The exhibit will be on display from Wednesday\, July 5th through Saturday\, November 4th. The exhibit details the 200 year history of the cemetery\, lives of some of the famous Batavians who are buried there\, cemetery artifacts\, as well as examples of how people have mourned the loss of their love through the past 200 years. The exhibit is done in collaboration with the Historic Batavia Cemetery Association.
URL:https://hollandlandoffice.com/event/new-exhibit-memento-mori-historic-batavia-cemetery-200-years-1823-2023/
END:VEVENT
BEGIN:VEVENT
DTSTART;TZID=UTC:20230727T090000
DTEND;TZID=UTC:20230727T103000
DTSTAMP:20260421T171839
CREATED:20230504T171328Z
LAST-MODIFIED:20230504T171328Z
UID:1824-1690448400-1690453800@hollandlandoffice.com
SUMMARY:Java with Joe E: Michael Eula\, "The National is Local: Genesee County\, 1802-Present"
DESCRIPTION:Join us at the Holland Land Office Museum for the next edition of our Java with Joe E. morning presentation series on Thursday\, July 27 at 9 am. The museum welcomes Genesee County Historian\, Michael Eula\, as he shares his new book “The National is Local: Genesee County\, NY\, 1802-Present” on the history of our county and the connection to national events. Admission is free with coffee and donuts. Please contact the museum at 585-343-4727 or hollandlandoffice@gmail.com if you would like to attend.
URL:https://hollandlandoffice.com/event/java-with-joe-e-michael-eula-the-national-is-local-genesee-county-1802-present/
END:VEVENT
END:VCALENDAR