BEGIN:VCALENDAR
VERSION:2.0
PRODID:-//Holand Land Office Museum - ECPv6.15.15//NONSGML v1.0//EN
CALSCALE:GREGORIAN
METHOD:PUBLISH
X-WR-CALNAME:Holand Land Office Museum
X-ORIGINAL-URL:https://hollandlandoffice.com
X-WR-CALDESC:Events for Holand Land Office Museum
REFRESH-INTERVAL;VALUE=DURATION:PT1H
X-Robots-Tag:noindex
X-PUBLISHED-TTL:PT1H
BEGIN:VTIMEZONE
TZID:UTC
BEGIN:STANDARD
TZOFFSETFROM:+0000
TZOFFSETTO:+0000
TZNAME:UTC
DTSTART:20220101T000000
END:STANDARD
END:VTIMEZONE
BEGIN:VEVENT
DTSTART;TZID=UTC:20230617T100000
DTEND;TZID=UTC:20230617T160000
DTSTAMP:20260425T155126
CREATED:20230608T164628Z
LAST-MODIFIED:20230608T164628Z
UID:1881-1686996000-1687017600@hollandlandoffice.com
SUMMARY:HLOM Path Through History Weekend: War of 1812 Encampment
DESCRIPTION:As part of New York State’s Path Through History\, the Holland Land Office Museum will be hosting a War of 1812 Encampment on Saturday\, June 17 from 10am to 4 pm. The event features reenactors\, encampment\, and other displays both inside and outside of the museum. The reenactors are from the local Genesee Militia\, which was stationed in Batavia. Batavia was the location that US forces and refugees from Buffalo retreated to after the village of Buffalo was burned in December 1813. \nThe event is included with regular admission to the museum. \nYou can find other great events happening during the Path Through History Weekend by following the link below https://www.iloveny.com/things-to-do/path-through-history/.
URL:https://hollandlandoffice.com/event/hlom-path-through-history-weekend-war-of-1812-encampment/
END:VEVENT
END:VCALENDAR