BEGIN:VCALENDAR
VERSION:2.0
PRODID:-//Holand Land Office Museum - ECPv6.15.15//NONSGML v1.0//EN
CALSCALE:GREGORIAN
METHOD:PUBLISH
X-WR-CALNAME:Holand Land Office Museum
X-ORIGINAL-URL:https://hollandlandoffice.com
X-WR-CALDESC:Events for Holand Land Office Museum
REFRESH-INTERVAL;VALUE=DURATION:PT1H
X-Robots-Tag:noindex
X-PUBLISHED-TTL:PT1H
BEGIN:VTIMEZONE
TZID:UTC
BEGIN:STANDARD
TZOFFSETFROM:+0000
TZOFFSETTO:+0000
TZNAME:UTC
DTSTART:20220101T000000
END:STANDARD
END:VTIMEZONE
BEGIN:VEVENT
DTSTART;TZID=UTC:20230615T190000
DTEND;TZID=UTC:20230615T200000
DTSTAMP:20260425T155126
CREATED:20230504T170145Z
LAST-MODIFIED:20230504T170145Z
UID:1816-1686855600-1686859200@hollandlandoffice.com
SUMMARY:HLOM Guest Speaker Series: David Kinney\, "History of Horseshoe Lake"
DESCRIPTION:The Holland Land Office Museum is proud to announce the next edition of its Guest Speaker Series on Thursday\, June 15 at 7 pm. Local historian David Kinney will be presenting on the history of Horseshoe Lake in connection with the publication of his book “History of Horseshoe Lake\, Stafford\, NY”. He will be sharing some of the unique personalities that had an impact on Horseshoe Lake throughout its history. Admission is $5 or $3 for museum members. Please contact the museum at 585-343-4727 or hollandlandoffice@gmail.com if you would like to attend.\n“This project is made possible with funds from the Statewide Community Regrant Program\, a regrant program of the New York State Council on the Arts with the support of the office of the Governor and the New York State Legislature and administered by GO ART!”
URL:https://hollandlandoffice.com/event/hlom-guest-speaker-series-david-kinney-history-of-horseshoe-lake/
END:VEVENT
END:VCALENDAR