BEGIN:VCALENDAR
VERSION:2.0
PRODID:-//Holand Land Office Museum - ECPv6.15.15//NONSGML v1.0//EN
CALSCALE:GREGORIAN
METHOD:PUBLISH
X-ORIGINAL-URL:https://hollandlandoffice.com
X-WR-CALDESC:Events for Holand Land Office Museum
REFRESH-INTERVAL;VALUE=DURATION:PT1H
X-Robots-Tag:noindex
X-PUBLISHED-TTL:PT1H
BEGIN:VTIMEZONE
TZID:UTC
BEGIN:STANDARD
TZOFFSETFROM:+0000
TZOFFSETTO:+0000
TZNAME:UTC
DTSTART:20220101T000000
END:STANDARD
END:VTIMEZONE
BEGIN:VEVENT
DTSTART;TZID=UTC:20230525T140000
DTEND;TZID=UTC:20230525T153000
DTSTAMP:20260425T141951
CREATED:20230211T171604Z
LAST-MODIFIED:20230510T191222Z
UID:1746-1685023200-1685028600@hollandlandoffice.com
SUMMARY:Java with Joe E- David Reilly\, "Small Town Talk: Growing Up in Batavia in the 1950s & 1960s"- Cancelled
DESCRIPTION:This event has been cancelled. \nJoin us at the Holland Land Office Museum for the next edition of our Java with Joe E. series\, but with a twist. This month’s program will be in the afternoon on Thursday\, May 25th at 2 pm. This month’s presenter is former Batavia resident and now local author David Reilly. David will be sharing stories from his childhood growing up in Batavia in the 1950s and 1960s\, which are is his new book “Small Town Talk: Growing Up in the Batavia\, New York in the 1950s & 1960s.” Copies of the book will be available. Admission is free and don’t worry coffee and donuts will still be provided. Please contact the museum at 585-343-4727 or hollandlandoffice@gmail.com if you plan to attend.
URL:https://hollandlandoffice.com/event/java-with-joe-e-david-reilly-small-town-talk-growing-up-in-batavia-in-the-1950s-1960s/
END:VEVENT
END:VCALENDAR