BEGIN:VCALENDAR
VERSION:2.0
PRODID:-//Holand Land Office Museum - ECPv6.15.15//NONSGML v1.0//EN
CALSCALE:GREGORIAN
METHOD:PUBLISH
X-ORIGINAL-URL:https://hollandlandoffice.com
X-WR-CALDESC:Events for Holand Land Office Museum
REFRESH-INTERVAL;VALUE=DURATION:PT1H
X-Robots-Tag:noindex
X-PUBLISHED-TTL:PT1H
BEGIN:VTIMEZONE
TZID:UTC
BEGIN:STANDARD
TZOFFSETFROM:+0000
TZOFFSETTO:+0000
TZNAME:UTC
DTSTART:20220101T000000
END:STANDARD
END:VTIMEZONE
BEGIN:VEVENT
DTSTART;TZID=UTC:20230520T100000
DTEND;TZID=UTC:20230520T150000
DTSTAMP:20260425T141951
CREATED:20230414T191349Z
LAST-MODIFIED:20230414T191349Z
UID:1800-1684576800-1684594800@hollandlandoffice.com
SUMMARY:Appraisals on Main: HLOM Appraisal Day
DESCRIPTION:The Holland Land Office Museum is proud to announce “Appraisal on Main: HLOM Appraisal Day” on Saturday\, May 20th from 10 am- 3 pm at the Batavia First Presbyterian Church located at 300 E. Main St. The community is invited to bring any of their treasures and heirlooms that may be collecting dust to see what they may be worth. Appraisers from Bontrager Real Estate & Auction\, Cottone Auctions\, and Schutlz Auctioneers will be available to give their expert opinions. There is a $5 charge for each item appraised\, with a limit of 5 items per person. The online registration form can by found at the link below where you can sign up for your time slot.\nhttps://form.jotform.com/231015891956158
URL:https://hollandlandoffice.com/event/appraisals-on-main-hlom-appraisal-day/
END:VEVENT
END:VCALENDAR