BEGIN:VCALENDAR
VERSION:2.0
PRODID:-//Holand Land Office Museum - ECPv6.15.15//NONSGML v1.0//EN
CALSCALE:GREGORIAN
METHOD:PUBLISH
X-WR-CALNAME:Holand Land Office Museum
X-ORIGINAL-URL:https://hollandlandoffice.com
X-WR-CALDESC:Events for Holand Land Office Museum
REFRESH-INTERVAL;VALUE=DURATION:PT1H
X-Robots-Tag:noindex
X-PUBLISHED-TTL:PT1H
BEGIN:VTIMEZONE
TZID:UTC
BEGIN:STANDARD
TZOFFSETFROM:+0000
TZOFFSETTO:+0000
TZNAME:UTC
DTSTART:20220101T000000
END:STANDARD
END:VTIMEZONE
BEGIN:VEVENT
DTSTART;TZID=UTC:20230330T190000
DTEND;TZID=UTC:20230330T200000
DTSTAMP:20260425T105714
CREATED:20230211T170211Z
LAST-MODIFIED:20230211T170211Z
UID:1730-1680202800-1680206400@hollandlandoffice.com
SUMMARY:Guest Speaker Series: Holly Watson\, "Linwood Gardens"
DESCRIPTION:Join us at the Holland Land Office Museum for the next edition of our Guest Speaker Series on Thursday\, March 30th at 7 pm. The presenter will be Holly Watson of the Linwood Gardens.\nLinwood Gardens is a rare example of a Western New York country place from the early 1900s with a unique horticultural history and enduring connections to its community. The summer house and array of garden spaces reflect the several generations who have worked and lived there through the decades. Each spring\, the public is invited to visit during the annual Tree Peony Festival of Flowers to view the blossoms and enjoy the unique atmosphere of the property. Join family member Holly Watson for a behind-the-scenes look at the history of the people\, peonies\, and property during this presentation.\nHolly Watson is a fifth-generation family member of Linwood Gardens. She grew up in Avon\, NY\, and graduated from the University of Vermont in 2010. In her spare time\, she works at Linwood Gardens as a gardener and volunteer coordinator\, manages its social media\, and serves on its volunteer board of directors.\nAdmission is $5 or $3 for museum members. Please contact the museum at 585-343-4727 or hollandlandoffice@gmail.com if you plan to attend.
URL:https://hollandlandoffice.com/event/guest-speaker-series-holly-watson-linwood-gardens/
END:VEVENT
END:VCALENDAR