BEGIN:VCALENDAR
VERSION:2.0
PRODID:-//Holand Land Office Museum - ECPv6.15.15//NONSGML v1.0//EN
CALSCALE:GREGORIAN
METHOD:PUBLISH
X-WR-CALNAME:Holand Land Office Museum
X-ORIGINAL-URL:https://hollandlandoffice.com
X-WR-CALDESC:Events for Holand Land Office Museum
REFRESH-INTERVAL;VALUE=DURATION:PT1H
X-Robots-Tag:noindex
X-PUBLISHED-TTL:PT1H
BEGIN:VTIMEZONE
TZID:UTC
BEGIN:STANDARD
TZOFFSETFROM:+0000
TZOFFSETTO:+0000
TZNAME:UTC
DTSTART:20220101T000000
END:STANDARD
END:VTIMEZONE
BEGIN:VEVENT
DTSTART;TZID=UTC:20230309T080000
DTEND;TZID=UTC:20230324T170000
DTSTAMP:20260425T105714
CREATED:20230309T205119Z
LAST-MODIFIED:20230309T205119Z
UID:1767-1678348800-1679677200@hollandlandoffice.com
SUMMARY:St. Paul's Lutheran School Exhibition
DESCRIPTION:We are proud to announce another cooperation with St. Paul Lutheran School and their social studies projects. Stop by and check out the creative dioramas early colonial settlements by the 5th & 6th grade students. They will be on display until March 24. \nSt. Paul Lutheran School is celebrating 25 years of quality education for Pre-K to 6th grade in a Christian environment. As one of the social studies projects of Mrs. Dunn’s 5/6th grade classroom\, the students wrote an essay and created early colonial settlements modeled after the first communities of a young country in the making. The students cleverly chose several different medium types to build with. The Holland Land Office Museum is hosting the projects for a two-week window from now until March 24th. You are invited to celebrate a great community treasure in the HLOM while encouraging blooming historians!
URL:https://hollandlandoffice.com/event/st-pauls-lutheran-school-exhibition/
END:VEVENT
BEGIN:VEVENT
DTSTART;TZID=UTC:20230323T090000
DTEND;TZID=UTC:20230323T103000
DTSTAMP:20260425T105714
CREATED:20230211T170102Z
LAST-MODIFIED:20230211T170102Z
UID:1728-1679562000-1679567400@hollandlandoffice.com
SUMMARY:Java with Joe E.- Don Burkel\, "The Upton Girls: Inspiring Women"
DESCRIPTION:Join us at the Holland Land Office Museum for the next edition of our Java with Joe E. series on Thursday\, March 23rd at 9 am. This month’s presenter is Don Burkel. “There were thirteen children in the Upton Family\, six were girls. The first being born in 1822 and the last in 1846. They became the primary correspondents of their brother\, Emory\, while pursuing careers and goals which were examples to other women. This is their brief yet interesting story of their contributions.”\nAdmission is free and coffee and donuts will be provided. Please contact the museum at 585-343-4727 or hollandlandoffice@gmail.com if you plan to attend.
URL:https://hollandlandoffice.com/event/java-with-joe-e-don-burkel-the-upton-girls-inspiring-women/
END:VEVENT
END:VCALENDAR