BEGIN:VCALENDAR
VERSION:2.0
PRODID:-//Holand Land Office Museum - ECPv6.15.15//NONSGML v1.0//EN
CALSCALE:GREGORIAN
METHOD:PUBLISH
X-WR-CALNAME:Holand Land Office Museum
X-ORIGINAL-URL:https://hollandlandoffice.com
X-WR-CALDESC:Events for Holand Land Office Museum
REFRESH-INTERVAL;VALUE=DURATION:PT1H
X-Robots-Tag:noindex
X-PUBLISHED-TTL:PT1H
BEGIN:VTIMEZONE
TZID:UTC
BEGIN:STANDARD
TZOFFSETFROM:+0000
TZOFFSETTO:+0000
TZNAME:UTC
DTSTART:20210101T000000
END:STANDARD
END:VTIMEZONE
BEGIN:VEVENT
DTSTART;TZID=UTC:20221027T090000
DTEND;TZID=UTC:20221027T103000
DTSTAMP:20260425T024909
CREATED:20220921T193005Z
LAST-MODIFIED:20220921T193005Z
UID:1626-1666861200-1666866600@hollandlandoffice.com
SUMMARY:Java with Joe E.: Tom Tiefel\, "Bergen Historic Maple Syrup Project"
DESCRIPTION:Join us at the Holland Land Office Museum for the next edition of our Java with Joe E. morning coffee presentations on Thursday\, October 27th at 9 am. This month’s presenter is Tom Tiefel\, Town of Bergen Historian and proprietor of the Bergen Historic Maple Syrup Project. He will be discussing his revitalization of an antique maple syrup operation that ran in Bergen nearly 100 years ago. Admission is free and coffee and donuts will be provided. If you would like to attend please contact the museum at 585-343-4727 or hollandlandoffice@gmail.com.
URL:https://hollandlandoffice.com/event/java-with-joe-e-tom-tiefel-bergen-historic-maple-syrup-project/
END:VEVENT
END:VCALENDAR