BEGIN:VCALENDAR
VERSION:2.0
PRODID:-//Holand Land Office Museum - ECPv6.15.15//NONSGML v1.0//EN
CALSCALE:GREGORIAN
METHOD:PUBLISH
X-ORIGINAL-URL:https://hollandlandoffice.com
X-WR-CALDESC:Events for Holand Land Office Museum
REFRESH-INTERVAL;VALUE=DURATION:PT1H
X-Robots-Tag:noindex
X-PUBLISHED-TTL:PT1H
BEGIN:VTIMEZONE
TZID:UTC
BEGIN:STANDARD
TZOFFSETFROM:+0000
TZOFFSETTO:+0000
TZNAME:UTC
DTSTART:20210101T000000
END:STANDARD
END:VTIMEZONE
BEGIN:VEVENT
DTSTART;TZID=UTC:20221006T190000
DTEND;TZID=UTC:20221006T203000
DTSTAMP:20260425T024915
CREATED:20220928T191931Z
LAST-MODIFIED:20220928T191931Z
UID:1640-1665082800-1665088200@hollandlandoffice.com
SUMMARY:HLOM Concert Series: Steven Kruppner
DESCRIPTION:Join us at the Holland Land Office Museum as we welcome back local guitarist and musician Steven Kruppner for another concert at the museum on Thursday\, October 6 at 7 pm. The concert will be an hour and a half from 7-8:30 pm featuring a wide array of tunes. Admission is $5 or $4 for museum members. If you would like to attend\, please contact the museum at 585-343-4727 or hollandlandoffice@gmail.com.
URL:https://hollandlandoffice.com/event/hlom-concert-series-steven-kruppner/
END:VEVENT
END:VCALENDAR