BEGIN:VCALENDAR
VERSION:2.0
PRODID:-//Holand Land Office Museum - ECPv6.15.15//NONSGML v1.0//EN
CALSCALE:GREGORIAN
METHOD:PUBLISH
X-WR-CALNAME:Holand Land Office Museum
X-ORIGINAL-URL:https://hollandlandoffice.com
X-WR-CALDESC:Events for Holand Land Office Museum
REFRESH-INTERVAL;VALUE=DURATION:PT1H
X-Robots-Tag:noindex
X-PUBLISHED-TTL:PT1H
BEGIN:VTIMEZONE
TZID:UTC
BEGIN:STANDARD
TZOFFSETFROM:+0000
TZOFFSETTO:+0000
TZNAME:UTC
DTSTART:20210101T000000
END:STANDARD
END:VTIMEZONE
BEGIN:VEVENT
DTSTART;TZID=UTC:20220726T100000
DTEND;TZID=UTC:20220730T160000
DTSTAMP:20260424T222529
CREATED:20220423T182329Z
LAST-MODIFIED:20220423T182329Z
UID:1529-1658829600-1659196800@hollandlandoffice.com
SUMMARY:2022 History Heroes Summer Program "History Rockin' Around the Clock in the 1950s"
DESCRIPTION:The Holland Land Museum will be rocking this summer with this year’s theme\, The Fabulous Fifties. I am very excited to return as a teacher for this program. My goal is to give the children a glimpse into what it was like to live in the 50s.\nWe have many fun activities planned. First\, we hope to display several artifacts from the museum\, such as a Sylvania black and white TV\, various early telephones\, a phonograph\, record albums\, 45s\, and a phonograph needle. Also on display will be typewriters\, early cameras\, movie cameras\, a transistor radio\, ball-bearing roller skates\, and a skate key.\nThis summer\, the Holland Land Office Museum will recreate the 50s. The children will compare what we had back then to what we have today; they will check out the clothing in the attic\, learn about the history of the 50s and experience an old-fashioned ice cream soda and a cherry coke.\nWe will have an outdoor day of play. The children will be divided into groups where they will play against each other to give them a sample of what baby boomers experienced. No cell phones are allowed. Instead\, we will bring out the hula hoops\, chalk for hopscotch\, rope for jump roping\, a can for kicking\, marbles\, and much more.\nThe children will have the Holland Land Office Museum as their home for one week. They will learn their local history by visiting the various rooms at the museum and looking at all the exhibits.\nIf you have a child between the ages of 7 and 12\, sign them up for rocking time living in the 50s.   The program will run from July 26th to July 30th from 10 am to 4 pm. Please contact Ryan Duffy\, the Executive Director of the Holland Land Office Museum\, at 343-4727.\nYou can find the registration info and activities schedule under the History Heroes tab.
URL:https://hollandlandoffice.com/event/2022-history-heroes-summer-program-history-rockin-around-the-clock-in-the-1950s/
END:VEVENT
BEGIN:VEVENT
DTSTART;TZID=UTC:20220728T090000
DTEND;TZID=UTC:20220728T103000
DTSTAMP:20260424T222529
CREATED:20220630T184633Z
LAST-MODIFIED:20220630T184712Z
UID:1576-1658998800-1659004200@hollandlandoffice.com
SUMMARY:Java with Joe E.: David Damico- “Early Recorded Music & the Edison Cylinder Player”
DESCRIPTION:The Holland Land Office Museum is proud to announce its next edition of our Java with Joe E morning coffee presentation on Thursday\, July 28 at 9 am. This month’s presenter is David Damico who will be regaining us with the history of early recorded music in the beginning of the twentieth century\, with a particular focus on the Edison Cylinder Player. His presentation is entitled\, “Early Recorded Music and the Edison Cylinder Player.” The event is free to the public and coffee and donuts will be available. If you wish to attend please contact the museum at 585-343-4727 or hollandlandoffice@gmail.com \n 
URL:https://hollandlandoffice.com/event/java-with-joe-e-david-damico-early-recorded-music-the-edison-cylinder-player/
END:VEVENT
END:VCALENDAR