BEGIN:VCALENDAR
VERSION:2.0
PRODID:-//Holand Land Office Museum - ECPv6.15.15//NONSGML v1.0//EN
CALSCALE:GREGORIAN
METHOD:PUBLISH
X-ORIGINAL-URL:https://hollandlandoffice.com
X-WR-CALDESC:Events for Holand Land Office Museum
REFRESH-INTERVAL;VALUE=DURATION:PT1H
X-Robots-Tag:noindex
X-PUBLISHED-TTL:PT1H
BEGIN:VTIMEZONE
TZID:UTC
BEGIN:STANDARD
TZOFFSETFROM:+0000
TZOFFSETTO:+0000
TZNAME:UTC
DTSTART:20210101T000000
END:STANDARD
END:VTIMEZONE
BEGIN:VEVENT
DTSTART;TZID=UTC:20220713T190000
DTEND;TZID=UTC:20220713T200000
DTSTAMP:20260424T222615
CREATED:20220630T183827Z
LAST-MODIFIED:20220630T183846Z
UID:1572-1657738800-1657742400@hollandlandoffice.com
SUMMARY:Guest Speaker Series: Mason Winfield\, “The Paranormal History of Genesee County- Mason Winfield’s Top 13”
DESCRIPTION:The Holland Land Office Museum is proud to announce the next edition of our Guest Speaker Series on Wednesday\, July 13 at 7 pm. Mason Winfield\, well-known paranormal investigator\, author and historian will be speaking on the paranormal stories of Genesee County in his presentation\, “The Paranormal History of Genesee County: Mason Winfield’s Top 13.” Admission is $3 or $2 for museum members. If you would like to attend the event please contact the museum at 585-343-4727 or hollandlandoffice@gmail.com. \nThe Guest Speaker Series is made possible with funds from the Statewide Community Regrant Program\, a regrant program of the New York State Council on the Arts with the support of the office of the Governor and New York State Legislature and administered by GO ART! \n 
URL:https://hollandlandoffice.com/event/guest-speaker-series-mason-winfield-the-paranormal-history-of-genesee-county-mason-winfields-top-13/
END:VEVENT
END:VCALENDAR