BEGIN:VCALENDAR
VERSION:2.0
PRODID:-//Holand Land Office Museum - ECPv6.15.15//NONSGML v1.0//EN
CALSCALE:GREGORIAN
METHOD:PUBLISH
X-WR-CALNAME:Holand Land Office Museum
X-ORIGINAL-URL:https://hollandlandoffice.com
X-WR-CALDESC:Events for Holand Land Office Museum
REFRESH-INTERVAL;VALUE=DURATION:PT1H
X-Robots-Tag:noindex
X-PUBLISHED-TTL:PT1H
BEGIN:VTIMEZONE
TZID:UTC
BEGIN:STANDARD
TZOFFSETFROM:+0000
TZOFFSETTO:+0000
TZNAME:UTC
DTSTART:20210101T000000
END:STANDARD
END:VTIMEZONE
BEGIN:VEVENT
DTSTART;TZID=UTC:20220608T190000
DTEND;TZID=UTC:20220608T200000
DTSTAMP:20260424T205427
CREATED:20220602T195309Z
LAST-MODIFIED:20220602T195309Z
UID:1549-1654714800-1654718400@hollandlandoffice.com
SUMMARY:Guest Speaker Series: Derrick Pratt\, “The Erie Canal & the Underground Railroad”
DESCRIPTION:The Holland Land Office Museum is proud to welcome Derrick Pratt of the Erie Canal Museum as its next presenter in its Guest Speaker Series on Wednesday\, June 8th at 7 pm. Mr. Pratt’s presentation\, “The Erie Canal and the Underground Railroad” will detail the important role that the Erie Canal played in the success of the Underground Railroad in New York State. Admission is $3 or $2 for museum members. If you would like to attend please contact the museum at 585-343-4727 or hollandlandoffice@gmail.com. \nThe Guest Speaker Series is made possible with funds from the Statewide Community Regrant Program\, a regrant program of the New York State Council on the Arts with the support of the office of the Governor and New York State Legislature and administered by GO ART!
URL:https://hollandlandoffice.com/event/guest-speaker-series-derrick-pratt-the-erie-canal-the-underground-railroad/
END:VEVENT
END:VCALENDAR