BEGIN:VCALENDAR
VERSION:2.0
PRODID:-//Holand Land Office Museum - ECPv6.15.15//NONSGML v1.0//EN
CALSCALE:GREGORIAN
METHOD:PUBLISH
X-ORIGINAL-URL:https://hollandlandoffice.com
X-WR-CALDESC:Events for Holand Land Office Museum
REFRESH-INTERVAL;VALUE=DURATION:PT1H
X-Robots-Tag:noindex
X-PUBLISHED-TTL:PT1H
BEGIN:VTIMEZONE
TZID:UTC
BEGIN:STANDARD
TZOFFSETFROM:+0000
TZOFFSETTO:+0000
TZNAME:UTC
DTSTART:20210101T000000
END:STANDARD
END:VTIMEZONE
BEGIN:VEVENT
DTSTART;TZID=UTC:20220512T190000
DTEND;TZID=UTC:20220512T200000
DTSTAMP:20260424T174818
CREATED:20220129T203055Z
LAST-MODIFIED:20220402T153553Z
UID:1417-1652382000-1652385600@hollandlandoffice.com
SUMMARY:Trivia Night @ the Museum: Lewis & Clark Expedition
DESCRIPTION:Join us at the Holland Land Office Museum on Thursday\, May 12 at 7 pm for the next edition of Trivia Night at the Museum. This month’s topic is the Lewis & Clark Expedition\, as we celebrate their initial departure into the Louisiana Purchase. Admission is $3 per person or $2 for museum members.  Please contact the museum if you would like to attend at 585-343-4727 or hollandlandoffice@gmail.com.
URL:https://hollandlandoffice.com/event/trivia-night-the-museum-lewis-clark-expedition/
END:VEVENT
END:VCALENDAR