BEGIN:VCALENDAR
VERSION:2.0
PRODID:-//Holand Land Office Museum - ECPv6.15.15//NONSGML v1.0//EN
CALSCALE:GREGORIAN
METHOD:PUBLISH
X-WR-CALNAME:Holand Land Office Museum
X-ORIGINAL-URL:https://hollandlandoffice.com
X-WR-CALDESC:Events for Holand Land Office Museum
REFRESH-INTERVAL;VALUE=DURATION:PT1H
X-Robots-Tag:noindex
X-PUBLISHED-TTL:PT1H
BEGIN:VTIMEZONE
TZID:UTC
BEGIN:STANDARD
TZOFFSETFROM:+0000
TZOFFSETTO:+0000
TZNAME:UTC
DTSTART:20210101T000000
END:STANDARD
END:VTIMEZONE
BEGIN:VEVENT
DTSTART;TZID=UTC:20220406T190000
DTEND;TZID=UTC:20220406T200000
DTSTAMP:20260421T220451
CREATED:20220216T154923Z
LAST-MODIFIED:20220317T152901Z
UID:1473-1649271600-1649275200@hollandlandoffice.com
SUMMARY:Guest Speaker Series: Lorna Czarnota\, ""Other Side of the Story: Wicked Niagara\, stories\, legends and lore"
DESCRIPTION:Join us on Wednesday\, April 6th at 7 pm as we welcome our next presenter in our Guest Speaker Series. We welcome back Lorna Czarnota as she shares her presentation\, “Other Side of the Story: Wicked Niagara\, stories\, legends and lore.” She will be sharing more stories from her book Wicked Niagara. There are several other titles of Lorna’s available in the museum gift shop. Admission is $3/$2 for museum members.\n\nThe Guest Speaker Series is made possible with funds from the Statewide Community Regrant Program\, a regrant program of the New York State council on the Arts with the support of the office of the Governor and the New York State Legislature and administered by GO ART!
URL:https://hollandlandoffice.com/event/guest-speaker-series-lorna-czarnota-other-side-of-the-story-wicked-niagara-stories-legends-and-lore/
END:VEVENT
END:VCALENDAR