BEGIN:VCALENDAR
VERSION:2.0
PRODID:-//Holand Land Office Museum - ECPv6.15.15//NONSGML v1.0//EN
CALSCALE:GREGORIAN
METHOD:PUBLISH
X-ORIGINAL-URL:https://hollandlandoffice.com
X-WR-CALDESC:Events for Holand Land Office Museum
REFRESH-INTERVAL;VALUE=DURATION:PT1H
X-Robots-Tag:noindex
X-PUBLISHED-TTL:PT1H
BEGIN:VTIMEZONE
TZID:UTC
BEGIN:STANDARD
TZOFFSETFROM:+0000
TZOFFSETTO:+0000
TZNAME:UTC
DTSTART:20210101T000000
END:STANDARD
END:VTIMEZONE
BEGIN:VEVENT
DTSTART;TZID=UTC:20220225T190000
DTEND;TZID=UTC:20220225T200000
DTSTAMP:20260421T171838
CREATED:20220211T193203Z
LAST-MODIFIED:20220211T193203Z
UID:1469-1645815600-1645819200@hollandlandoffice.com
SUMMARY:Guest Speaker Series- Donald Druitt\, "Frederick Douglass- The Slave\, a Freed Man\, and Abolitionist"
DESCRIPTION:Join us on Friday\, February 25th at 7 pm as we welcome our next presenter in our Guest Speaker Series. We welcome Donald Druitt\, an avid Frederick Douglass reenactor\, who be visiting with virtually as we take in a rendition of his one man play “Frederick Douglass- The Slave\, a Freed Man\, and Abolitionist”. As we watch his telling of three particular parts of Douglass’s life\, Mr. Druitt will be available to answer questions and share other interesting knowledge associated with Frederick Douglass. Admission is $3/$2 for museum members. Masks are required for all in attendance. The program will also be available via Zoom. You can find the links below. https://us02web.zoom.us/j/84792411788…\nMeeting ID: 847 9241 1788 Passcode: 302906.\nThe Guest Speaker Series is made possible with funds from the Statewide Community Regrant Program\, a regrant program of the New York State council on the Arts with the support of the office of the Governor and the New York State Legislature and administered by GO ART!
URL:https://hollandlandoffice.com/event/guest-speaker-series-donald-druitt-frederick-douglass-the-slave-a-freed-man-and-abolitionist/
END:VEVENT
END:VCALENDAR