BEGIN:VCALENDAR
VERSION:2.0
PRODID:-//Holand Land Office Museum - ECPv6.15.15//NONSGML v1.0//EN
CALSCALE:GREGORIAN
METHOD:PUBLISH
X-ORIGINAL-URL:https://hollandlandoffice.com
X-WR-CALDESC:Events for Holand Land Office Museum
REFRESH-INTERVAL;VALUE=DURATION:PT1H
X-Robots-Tag:noindex
X-PUBLISHED-TTL:PT1H
BEGIN:VTIMEZONE
TZID:UTC
BEGIN:STANDARD
TZOFFSETFROM:+0000
TZOFFSETTO:+0000
TZNAME:UTC
DTSTART:20210101T000000
END:STANDARD
END:VTIMEZONE
BEGIN:VEVENT
DTSTART;TZID=UTC:20220127T190000
DTEND;TZID=UTC:20220127T200000
DTSTAMP:20260421T153755
CREATED:20220105T185546Z
LAST-MODIFIED:20220113T192428Z
UID:1389-1643310000-1643313600@hollandlandoffice.com
SUMMARY:Trivia Night @ the Museum: Alexander Hamilton- New Date
DESCRIPTION:The original date for this event was Thursday\, January 13th. \nJoin us at the Holland Land Office Museum on Thursday\, January 27th at 7 pm for the next edition of Trivia Night at the Museum. This month’s topic is Alexander Hamilton as we celebrate the first Secretary of the Treasury’s birthday. Admission is $3 per person or $2 for museum members. All in attendance are required to wear face coverings. Please contact the museum if you would like to attend at 585-343-4727 or hollandlandoffice@gmail.com.
URL:https://hollandlandoffice.com/event/trivia-night-the-museum-alexander-hamilton/
END:VEVENT
END:VCALENDAR