BEGIN:VCALENDAR
VERSION:2.0
PRODID:-//Holand Land Office Museum - ECPv6.15.15//NONSGML v1.0//EN
CALSCALE:GREGORIAN
METHOD:PUBLISH
X-WR-CALNAME:Holand Land Office Museum
X-ORIGINAL-URL:https://hollandlandoffice.com
X-WR-CALDESC:Events for Holand Land Office Museum
REFRESH-INTERVAL;VALUE=DURATION:PT1H
X-Robots-Tag:noindex
X-PUBLISHED-TTL:PT1H
BEGIN:VTIMEZONE
TZID:UTC
BEGIN:STANDARD
TZOFFSETFROM:+0000
TZOFFSETTO:+0000
TZNAME:UTC
DTSTART:20210101T000000
END:STANDARD
END:VTIMEZONE
BEGIN:VEVENT
DTSTART;VALUE=DATE:20220104
DTEND;VALUE=DATE:20220109
DTSTAMP:20260421T153653
CREATED:20211229T171414Z
LAST-MODIFIED:20211229T191351Z
UID:1384-1641254400-1641686399@hollandlandoffice.com
SUMMARY:Museum Closed
DESCRIPTION:The Holland Land Office Museum will be closed from Tuesday\, January 4th through Saturday\, January 8th as we transition from 2021 into 2022. We will be returning to normal operating hours beginning Tuesday\, January 11th.
URL:https://hollandlandoffice.com/event/museum-closed/
END:VEVENT
END:VCALENDAR