BEGIN:VCALENDAR
VERSION:2.0
PRODID:-//Holand Land Office Museum - ECPv6.15.15//NONSGML v1.0//EN
CALSCALE:GREGORIAN
METHOD:PUBLISH
X-ORIGINAL-URL:https://hollandlandoffice.com
X-WR-CALDESC:Events for Holand Land Office Museum
REFRESH-INTERVAL;VALUE=DURATION:PT1H
X-Robots-Tag:noindex
X-PUBLISHED-TTL:PT1H
BEGIN:VTIMEZONE
TZID:UTC
BEGIN:STANDARD
TZOFFSETFROM:+0000
TZOFFSETTO:+0000
TZNAME:UTC
DTSTART:20200101T000000
END:STANDARD
END:VTIMEZONE
BEGIN:VEVENT
DTSTART;TZID=UTC:20211120T100000
DTEND;TZID=UTC:20220101T160000
DTSTAMP:20260421T141358
CREATED:20211106T174033Z
LAST-MODIFIED:20211116T223722Z
UID:1324-1637402400-1641052800@hollandlandoffice.com
SUMMARY:20th Annual Wonderland of Trees
DESCRIPTION:Come by the Holland Land Office Museum and experience the 20th Annual Wonderland of Trees\, “Through the Years.” This year’s event is sponsored in part by Tompkins Bank of Castile and WBTA. Nothing puts you in the holiday spirit like seeing all of the wonderfully decorated trees by local organizations and businesses. The trees will remain up through the New Year. Be sure to stop on by and vote for your favorite one. Also\, our basket raffle will be available until Friday\, December 17th to give everyone as many opportunities to win. Admission follows the same as the regular museum admission. Masks are required.
URL:https://hollandlandoffice.com/event/20th-annual-wonderland-of-trees/
END:VEVENT
END:VCALENDAR