BEGIN:VCALENDAR
VERSION:2.0
PRODID:-//Holand Land Office Museum - ECPv6.15.15//NONSGML v1.0//EN
CALSCALE:GREGORIAN
METHOD:PUBLISH
X-ORIGINAL-URL:https://hollandlandoffice.com
X-WR-CALDESC:Events for Holand Land Office Museum
REFRESH-INTERVAL;VALUE=DURATION:PT1H
X-Robots-Tag:noindex
X-PUBLISHED-TTL:PT1H
BEGIN:VTIMEZONE
TZID:UTC
BEGIN:STANDARD
TZOFFSETFROM:+0000
TZOFFSETTO:+0000
TZNAME:UTC
DTSTART:20200101T000000
END:STANDARD
END:VTIMEZONE
BEGIN:VEVENT
DTSTART;TZID=UTC:20211119T180000
DTEND;TZID=UTC:20211119T203000
DTSTAMP:20260421T124347
CREATED:20211029T195524Z
LAST-MODIFIED:20211116T223747Z
UID:1316-1637344800-1637353800@hollandlandoffice.com
SUMMARY:20th Annual Wonderland of Trees Opening Gala
DESCRIPTION:Come and experience the 20th annual Wonderland of Trees\, sponsored in part by Tompkins Bank of Castile and WBTA! The opening gala will occur on Friday\, November 19th from 6:00 to 8:30 pm at the Holland Land Office Museum. This year’s theme to honor this milestone year is “Through the Years.” Visit the museum to see all the wonderfully decorated trees and displays by local businesses and organizations. This year’s opening gala will feature many great gift baskets to win and even a Grand Basket. The night will also feature holiday music by a violin quartet of the Genesee Symphony Orchestra and hors d’oeuvres provided by the D & R Depot. Tickets for this event are on sale at the museum. Tickets are $15 per person/ $10 for museum members and $5 for children under 12. For more details contact the museum or visit www.hollandlandoffice.com. Masks are required. \nThe Wonderland of Trees will run through the end of December. The basket raffle winners will be drawn Friday\, December 17th. Further holiday events will also be held throughout the season. If you would like to participate by decorating a tree or contributing a basket\, or general sponsorship\, please contact the museum or visit www.hollandlandoffice.com.
URL:https://hollandlandoffice.com/event/20th-annual-wonderland-of-trees-opening-gala/
END:VEVENT
END:VCALENDAR