BEGIN:VCALENDAR
VERSION:2.0
PRODID:-//Holand Land Office Museum - ECPv6.15.15//NONSGML v1.0//EN
CALSCALE:GREGORIAN
METHOD:PUBLISH
X-ORIGINAL-URL:https://hollandlandoffice.com
X-WR-CALDESC:Events for Holand Land Office Museum
REFRESH-INTERVAL;VALUE=DURATION:PT1H
X-Robots-Tag:noindex
X-PUBLISHED-TTL:PT1H
BEGIN:VTIMEZONE
TZID:UTC
BEGIN:STANDARD
TZOFFSETFROM:+0000
TZOFFSETTO:+0000
TZNAME:UTC
DTSTART:20200101T000000
END:STANDARD
END:VTIMEZONE
BEGIN:VEVENT
DTSTART;TZID=UTC:20211111T190000
DTEND;TZID=UTC:20211111T200000
DTSTAMP:20260421T121008
CREATED:20211029T195840Z
LAST-MODIFIED:20211029T195840Z
UID:1318-1636657200-1636660800@hollandlandoffice.com
SUMMARY:Trivia Night @ the Museum: Presidential Assassinations.
DESCRIPTION:Join us on Thursday\, November 11th at 7 pm to test your knowledge of the assassinations\, and attempted assassinations\, of Presidents of the United States. Admission is $3/$2 for museum members. Trivia will also be available via Zoom if you cannot make it in person. \nJoin Zoom Meeting\nhttps://us02web.zoom.us/j/85102585489?pwd=SWJvSGRtbVc1MmpjMEpGMnZWWFF4UT09\nMeeting ID: 851 0258 5489\nPasscode: 407955
URL:https://hollandlandoffice.com/event/trivia-night-the-museum-presidential-assassinations/
END:VEVENT
END:VCALENDAR