BEGIN:VCALENDAR
VERSION:2.0
PRODID:-//Holand Land Office Museum - ECPv6.15.15//NONSGML v1.0//EN
CALSCALE:GREGORIAN
METHOD:PUBLISH
X-ORIGINAL-URL:https://hollandlandoffice.com
X-WR-CALDESC:Events for Holand Land Office Museum
REFRESH-INTERVAL;VALUE=DURATION:PT1H
X-Robots-Tag:noindex
X-PUBLISHED-TTL:PT1H
BEGIN:VTIMEZONE
TZID:UTC
BEGIN:STANDARD
TZOFFSETFROM:+0000
TZOFFSETTO:+0000
TZNAME:UTC
DTSTART:20200101T000000
END:STANDARD
END:VTIMEZONE
BEGIN:VEVENT
DTSTART;TZID=UTC:20211028T090000
DTEND;TZID=UTC:20211028T100000
DTSTAMP:20260421T123619
CREATED:20210702T190840Z
LAST-MODIFIED:20210922T195439Z
UID:1195-1635411600-1635415200@hollandlandoffice.com
SUMMARY:Java with Joe E.: Jennifer Liber Raines "Forgotten People\, Forgotten Places"
DESCRIPTION:Join us Thursday\, September 23 at 9 am at the Holland Land Office Museum as we welcome local genealogist and researcher Jennifer Liber Raines. She will be discussing the burials recovered at the Erie County Poor Farm on the University at Buffalo’s south campus\, the research\, and how the 19th and 20th century poor lived to exemplify the importance of the preservation of our shared history. The event is free to the public. Please contact the museum at 585-343-4727 if you would like to attend. The presentation will also be available via Zoom. Please follow the link below. \nhttps://us02web.zoom.us/j/89525413325?pwd=Q3RjQnBYOW5CVk9yYlVYeDVJS1Awdz09 \nMeeting ID: 895 2541 3325\nPasscode: 069864
URL:https://hollandlandoffice.com/event/java-with-joe-e-jennifer-liber-raines-forgotten-people-forgotten-places/
END:VEVENT
END:VCALENDAR